BEGIN:VCALENDAR
VERSION:2.0
PRODID:-//Saint Paul&#039;s UMC - ECPv6.15.20//NONSGML v1.0//EN
CALSCALE:GREGORIAN
METHOD:PUBLISH
X-WR-CALNAME:Saint Paul&#039;s UMC
X-ORIGINAL-URL:https://www.saintpaulsumc.org
X-WR-CALDESC:Events for Saint Paul&#039;s UMC
REFRESH-INTERVAL;VALUE=DURATION:PT1H
X-Robots-Tag:noindex
X-PUBLISHED-TTL:PT1H
BEGIN:VTIMEZONE
TZID:America/New_York
BEGIN:DAYLIGHT
TZOFFSETFROM:-0500
TZOFFSETTO:-0400
TZNAME:EDT
DTSTART:20250309T070000
END:DAYLIGHT
BEGIN:STANDARD
TZOFFSETFROM:-0400
TZOFFSETTO:-0500
TZNAME:EST
DTSTART:20251102T060000
END:STANDARD
BEGIN:DAYLIGHT
TZOFFSETFROM:-0500
TZOFFSETTO:-0400
TZNAME:EDT
DTSTART:20260308T070000
END:DAYLIGHT
BEGIN:STANDARD
TZOFFSETFROM:-0400
TZOFFSETTO:-0500
TZNAME:EST
DTSTART:20261101T060000
END:STANDARD
BEGIN:DAYLIGHT
TZOFFSETFROM:-0500
TZOFFSETTO:-0400
TZNAME:EDT
DTSTART:20270314T070000
END:DAYLIGHT
BEGIN:STANDARD
TZOFFSETFROM:-0400
TZOFFSETTO:-0500
TZNAME:EST
DTSTART:20271107T060000
END:STANDARD
END:VTIMEZONE
BEGIN:VEVENT
DTSTART;TZID=America/New_York:20260421T074500
DTEND;TZID=America/New_York:20260421T174500
DTSTAMP:20260421T150624
CREATED:20260409T171206Z
LAST-MODIFIED:20260417T003133Z
UID:10008199-1776757500-1776793500@www.saintpaulsumc.org
SUMMARY:PMO/Preschool/N/200 Level /F
DESCRIPTION:
URL:https://www.saintpaulsumc.org/event/pmo-preschool-n-200-level-f-237/
LOCATION:Nursery
END:VEVENT
BEGIN:VEVENT
DTSTART;TZID=America/New_York:20260422T074500
DTEND;TZID=America/New_York:20260422T174500
DTSTAMP:20260421T150624
CREATED:20260409T171208Z
LAST-MODIFIED:20260417T003135Z
UID:10008207-1776843900-1776879900@www.saintpaulsumc.org
SUMMARY:PMO/Preschool/N/200 Level/F
DESCRIPTION:
URL:https://www.saintpaulsumc.org/event/pmo-preschool-n-200-level-f-238/
LOCATION:Nursery
END:VEVENT
BEGIN:VEVENT
DTSTART;TZID=America/New_York:20260423T074500
DTEND;TZID=America/New_York:20260423T174500
DTSTAMP:20260421T150624
CREATED:20260409T171209Z
LAST-MODIFIED:20260417T003113Z
UID:10008215-1776930300-1776966300@www.saintpaulsumc.org
SUMMARY:PMO/Preschool/N
DESCRIPTION:
URL:https://www.saintpaulsumc.org/event/pmo-preschool-n-358/
LOCATION:Nursery
END:VEVENT
BEGIN:VEVENT
DTSTART;TZID=America/New_York:20260424T074500
DTEND;TZID=America/New_York:20260424T174500
DTSTAMP:20260421T150624
CREATED:20260409T171210Z
LAST-MODIFIED:20260417T003113Z
UID:10008217-1777016700-1777052700@www.saintpaulsumc.org
SUMMARY:PMO/Preschool/N
DESCRIPTION:
URL:https://www.saintpaulsumc.org/event/pmo-preschool-n-359/
LOCATION:Nursery
END:VEVENT
BEGIN:VEVENT
DTSTART;TZID=America/New_York:20260427T074500
DTEND;TZID=America/New_York:20260427T174500
DTSTAMP:20260421T150624
CREATED:20260409T171212Z
LAST-MODIFIED:20260417T003115Z
UID:10008230-1777275900-1777311900@www.saintpaulsumc.org
SUMMARY:PMO/Preschool/N
DESCRIPTION:
URL:https://www.saintpaulsumc.org/event/pmo-preschool-n-360/
LOCATION:Nursery
END:VEVENT
BEGIN:VEVENT
DTSTART;TZID=America/New_York:20260428T074500
DTEND;TZID=America/New_York:20260428T174500
DTSTAMP:20260421T150624
CREATED:20260409T171212Z
LAST-MODIFIED:20260417T003115Z
UID:10008233-1777362300-1777398300@www.saintpaulsumc.org
SUMMARY:PMO/Preschool/N/200 Level /F
DESCRIPTION:
URL:https://www.saintpaulsumc.org/event/pmo-preschool-n-200-level-f-239/
LOCATION:Nursery
END:VEVENT
BEGIN:VEVENT
DTSTART;TZID=America/New_York:20260429T074500
DTEND;TZID=America/New_York:20260429T174500
DTSTAMP:20260421T150624
CREATED:20260409T171213Z
LAST-MODIFIED:20260417T003116Z
UID:10008238-1777448700-1777484700@www.saintpaulsumc.org
SUMMARY:PMO/Preschool/N/200 Level/F
DESCRIPTION:
URL:https://www.saintpaulsumc.org/event/pmo-preschool-n-200-level-f-240/
LOCATION:Nursery
END:VEVENT
BEGIN:VEVENT
DTSTART;TZID=America/New_York:20260430T074500
DTEND;TZID=America/New_York:20260430T174500
DTSTAMP:20260421T150624
CREATED:20260409T171215Z
LAST-MODIFIED:20260417T003117Z
UID:10008246-1777535100-1777571100@www.saintpaulsumc.org
SUMMARY:PMO/Preschool/N
DESCRIPTION:
URL:https://www.saintpaulsumc.org/event/pmo-preschool-n-361/
LOCATION:Nursery
END:VEVENT
BEGIN:VEVENT
DTSTART;TZID=America/New_York:20260501T074500
DTEND;TZID=America/New_York:20260501T174500
DTSTAMP:20260421T150624
CREATED:20260409T171216Z
LAST-MODIFIED:20260417T003117Z
UID:10008250-1777621500-1777657500@www.saintpaulsumc.org
SUMMARY:PMO/Preschool/N
DESCRIPTION:
URL:https://www.saintpaulsumc.org/event/pmo-preschool-n-362/
LOCATION:Nursery
END:VEVENT
BEGIN:VEVENT
DTSTART;TZID=America/New_York:20260504T074500
DTEND;TZID=America/New_York:20260504T174500
DTSTAMP:20260421T150624
CREATED:20260409T171218Z
LAST-MODIFIED:20260417T003120Z
UID:10008260-1777880700-1777916700@www.saintpaulsumc.org
SUMMARY:PMO/Preschool/N
DESCRIPTION:
URL:https://www.saintpaulsumc.org/event/pmo-preschool-n-363/
LOCATION:Nursery
END:VEVENT
BEGIN:VEVENT
DTSTART;TZID=America/New_York:20260505T074500
DTEND;TZID=America/New_York:20260505T174500
DTSTAMP:20260421T150624
CREATED:20260409T171219Z
LAST-MODIFIED:20260417T003120Z
UID:10008263-1777967100-1778003100@www.saintpaulsumc.org
SUMMARY:PMO/Preschool/N/200 Level /F
DESCRIPTION:
URL:https://www.saintpaulsumc.org/event/pmo-preschool-n-200-level-f-241/
LOCATION:Nursery
END:VEVENT
BEGIN:VEVENT
DTSTART;TZID=America/New_York:20260506T074500
DTEND;TZID=America/New_York:20260506T174500
DTSTAMP:20260421T150624
CREATED:20260409T171220Z
LAST-MODIFIED:20260417T003122Z
UID:10008269-1778053500-1778089500@www.saintpaulsumc.org
SUMMARY:PMO/Preschool/N/200 Level/F
DESCRIPTION:
URL:https://www.saintpaulsumc.org/event/pmo-preschool-n-200-level-f-242/
LOCATION:Nursery
END:VEVENT
BEGIN:VEVENT
DTSTART;TZID=America/New_York:20260507T074500
DTEND;TZID=America/New_York:20260507T174500
DTSTAMP:20260421T150624
CREATED:20260409T171221Z
LAST-MODIFIED:20260417T003122Z
UID:10008277-1778139900-1778175900@www.saintpaulsumc.org
SUMMARY:PMO/Preschool/N
DESCRIPTION:
URL:https://www.saintpaulsumc.org/event/pmo-preschool-n-364/
LOCATION:Nursery
END:VEVENT
BEGIN:VEVENT
DTSTART;TZID=America/New_York:20260508T074500
DTEND;TZID=America/New_York:20260508T174500
DTSTAMP:20260421T150624
CREATED:20260409T171222Z
LAST-MODIFIED:20260417T003123Z
UID:10008280-1778226300-1778262300@www.saintpaulsumc.org
SUMMARY:PMO/Preschool/N
DESCRIPTION:
URL:https://www.saintpaulsumc.org/event/pmo-preschool-n-365/
LOCATION:Nursery
END:VEVENT
BEGIN:VEVENT
DTSTART;TZID=America/New_York:20260511T074500
DTEND;TZID=America/New_York:20260511T174500
DTSTAMP:20260421T150624
CREATED:20260409T171225Z
LAST-MODIFIED:20260417T003124Z
UID:10008294-1778485500-1778521500@www.saintpaulsumc.org
SUMMARY:PMO/Preschool/N
DESCRIPTION:
URL:https://www.saintpaulsumc.org/event/pmo-preschool-n-366/
LOCATION:Nursery
END:VEVENT
BEGIN:VEVENT
DTSTART;TZID=America/New_York:20260512T074500
DTEND;TZID=America/New_York:20260512T174500
DTSTAMP:20260421T150624
CREATED:20260409T171226Z
LAST-MODIFIED:20260417T003125Z
UID:10008296-1778571900-1778607900@www.saintpaulsumc.org
SUMMARY:PMO/Preschool/N/200 Level /F
DESCRIPTION:
URL:https://www.saintpaulsumc.org/event/pmo-preschool-n-200-level-f-243/
LOCATION:Nursery
END:VEVENT
BEGIN:VEVENT
DTSTART;TZID=America/New_York:20260513T074500
DTEND;TZID=America/New_York:20260513T174500
DTSTAMP:20260421T150624
CREATED:20260409T171228Z
LAST-MODIFIED:20260417T003125Z
UID:10008303-1778658300-1778694300@www.saintpaulsumc.org
SUMMARY:PMO/Preschool/N/200 Level/F
DESCRIPTION:
URL:https://www.saintpaulsumc.org/event/pmo-preschool-n-200-level-f-244/
LOCATION:Nursery
END:VEVENT
BEGIN:VEVENT
DTSTART;TZID=America/New_York:20260514T074500
DTEND;TZID=America/New_York:20260514T174500
DTSTAMP:20260421T150624
CREATED:20260409T171230Z
LAST-MODIFIED:20260417T003127Z
UID:10008312-1778744700-1778780700@www.saintpaulsumc.org
SUMMARY:PMO/Preschool/N
DESCRIPTION:
URL:https://www.saintpaulsumc.org/event/pmo-preschool-n-367/
LOCATION:Nursery
END:VEVENT
BEGIN:VEVENT
DTSTART;TZID=America/New_York:20260515T074500
DTEND;TZID=America/New_York:20260515T174500
DTSTAMP:20260421T150624
CREATED:20260409T171232Z
LAST-MODIFIED:20260417T003128Z
UID:10008318-1778831100-1778867100@www.saintpaulsumc.org
SUMMARY:PMO/Preschool/N
DESCRIPTION:
URL:https://www.saintpaulsumc.org/event/pmo-preschool-n-368/
LOCATION:Nursery
END:VEVENT
BEGIN:VEVENT
DTSTART;TZID=America/New_York:20260518T074500
DTEND;TZID=America/New_York:20260518T174500
DTSTAMP:20260421T150624
CREATED:20260409T171234Z
LAST-MODIFIED:20260417T003129Z
UID:10008329-1779090300-1779126300@www.saintpaulsumc.org
SUMMARY:PMO/Preschool/N
DESCRIPTION:
URL:https://www.saintpaulsumc.org/event/pmo-preschool-n-369/
LOCATION:Nursery
END:VEVENT
BEGIN:VEVENT
DTSTART;TZID=America/New_York:20260519T074500
DTEND;TZID=America/New_York:20260519T174500
DTSTAMP:20260421T150624
CREATED:20260409T171235Z
LAST-MODIFIED:20260417T003130Z
UID:10008333-1779176700-1779212700@www.saintpaulsumc.org
SUMMARY:PMO/Preschool/N/200 Level /F
DESCRIPTION:
URL:https://www.saintpaulsumc.org/event/pmo-preschool-n-200-level-f-245/
LOCATION:Nursery
END:VEVENT
BEGIN:VEVENT
DTSTART;TZID=America/New_York:20260520T074500
DTEND;TZID=America/New_York:20260520T174500
DTSTAMP:20260421T150624
CREATED:20260409T171236Z
LAST-MODIFIED:20260417T003131Z
UID:10008339-1779263100-1779299100@www.saintpaulsumc.org
SUMMARY:PMO/Preschool/N/200 Level/F
DESCRIPTION:
URL:https://www.saintpaulsumc.org/event/pmo-preschool-n-200-level-f-246/
LOCATION:Nursery
END:VEVENT
BEGIN:VEVENT
DTSTART;TZID=America/New_York:20260521T074500
DTEND;TZID=America/New_York:20260521T174500
DTSTAMP:20260421T150624
CREATED:20260409T171237Z
LAST-MODIFIED:20260417T003132Z
UID:10008345-1779349500-1779385500@www.saintpaulsumc.org
SUMMARY:PMO/Preschool/N
DESCRIPTION:
URL:https://www.saintpaulsumc.org/event/pmo-preschool-n-370/
LOCATION:Nursery
END:VEVENT
BEGIN:VEVENT
DTSTART;TZID=America/New_York:20260522T074500
DTEND;TZID=America/New_York:20260522T174500
DTSTAMP:20260421T150624
CREATED:20260409T171238Z
LAST-MODIFIED:20260417T003132Z
UID:10008348-1779435900-1779471900@www.saintpaulsumc.org
SUMMARY:PMO/Preschool/N
DESCRIPTION:
URL:https://www.saintpaulsumc.org/event/pmo-preschool-n-371/
LOCATION:Nursery
END:VEVENT
END:VCALENDAR