BEGIN:VCALENDAR
VERSION:2.0
PRODID:-//Saint Paul&#039;s UMC - ECPv6.15.20//NONSGML v1.0//EN
CALSCALE:GREGORIAN
METHOD:PUBLISH
X-WR-CALNAME:Saint Paul&#039;s UMC
X-ORIGINAL-URL:https://www.saintpaulsumc.org
X-WR-CALDESC:Events for Saint Paul&#039;s UMC
REFRESH-INTERVAL;VALUE=DURATION:PT1H
X-Robots-Tag:noindex
X-PUBLISHED-TTL:PT1H
BEGIN:VTIMEZONE
TZID:America/New_York
BEGIN:DAYLIGHT
TZOFFSETFROM:-0500
TZOFFSETTO:-0400
TZNAME:EDT
DTSTART:20250309T070000
END:DAYLIGHT
BEGIN:STANDARD
TZOFFSETFROM:-0400
TZOFFSETTO:-0500
TZNAME:EST
DTSTART:20251102T060000
END:STANDARD
BEGIN:DAYLIGHT
TZOFFSETFROM:-0500
TZOFFSETTO:-0400
TZNAME:EDT
DTSTART:20260308T070000
END:DAYLIGHT
BEGIN:STANDARD
TZOFFSETFROM:-0400
TZOFFSETTO:-0500
TZNAME:EST
DTSTART:20261101T060000
END:STANDARD
BEGIN:DAYLIGHT
TZOFFSETFROM:-0500
TZOFFSETTO:-0400
TZNAME:EDT
DTSTART:20270314T070000
END:DAYLIGHT
BEGIN:STANDARD
TZOFFSETFROM:-0400
TZOFFSETTO:-0500
TZNAME:EST
DTSTART:20271107T060000
END:STANDARD
END:VTIMEZONE
BEGIN:VEVENT
DTSTART;TZID=America/New_York:20260408T074500
DTEND;TZID=America/New_York:20260408T174500
DTSTAMP:20260421T181616
CREATED:20260205T030205Z
LAST-MODIFIED:20260408T213143Z
UID:10006645-1775634300-1775670300@www.saintpaulsumc.org
SUMMARY:PMO/Preschool/N/200 Level/F
DESCRIPTION:
URL:https://www.saintpaulsumc.org/event/pmo-preschool-n-200-level-f-234/
LOCATION:Nursery
END:VEVENT
BEGIN:VEVENT
DTSTART;TZID=America/New_York:20260407T074500
DTEND;TZID=America/New_York:20260407T174500
DTSTAMP:20260421T181616
CREATED:20260204T233210Z
LAST-MODIFIED:20260407T201632Z
UID:10006635-1775547900-1775583900@www.saintpaulsumc.org
SUMMARY:PMO/Preschool/N/200 Level /F
DESCRIPTION:
URL:https://www.saintpaulsumc.org/event/pmo-preschool-n-200-level-f-233/
LOCATION:Nursery
END:VEVENT
BEGIN:VEVENT
DTSTART;TZID=America/New_York:20260406T074500
DTEND;TZID=America/New_York:20260406T174500
DTSTAMP:20260421T181616
CREATED:20260203T184659Z
LAST-MODIFIED:20260406T194752Z
UID:10006621-1775461500-1775497500@www.saintpaulsumc.org
SUMMARY:PMO/Preschool/N
DESCRIPTION:
URL:https://www.saintpaulsumc.org/event/pmo-preschool-n-351/
LOCATION:Nursery
END:VEVENT
BEGIN:VEVENT
DTSTART;TZID=America/New_York:20260403T074500
DTEND;TZID=America/New_York:20260403T174500
DTSTAMP:20260421T181616
CREATED:20260201T134727Z
LAST-MODIFIED:20260403T204657Z
UID:10006575-1775202300-1775238300@www.saintpaulsumc.org
SUMMARY:PMO/Preschool/N
DESCRIPTION:
URL:https://www.saintpaulsumc.org/event/pmo-preschool-n-350/
LOCATION:Nursery
END:VEVENT
BEGIN:VEVENT
DTSTART;TZID=America/New_York:20260402T074500
DTEND;TZID=America/New_York:20260402T174500
DTSTAMP:20260421T181616
CREATED:20260130T163417Z
LAST-MODIFIED:20260402T203204Z
UID:10006522-1775115900-1775151900@www.saintpaulsumc.org
SUMMARY:PMO/Preschool/N
DESCRIPTION:
URL:https://www.saintpaulsumc.org/event/pmo-preschool-n-349/
LOCATION:Nursery
END:VEVENT
BEGIN:VEVENT
DTSTART;TZID=America/New_York:20260401T074500
DTEND;TZID=America/New_York:20260401T174500
DTSTAMP:20260421T181616
CREATED:20260127T124702Z
LAST-MODIFIED:20260401T213209Z
UID:10006477-1775029500-1775065500@www.saintpaulsumc.org
SUMMARY:PMO/Preschool/N/200 Level/F
DESCRIPTION:
URL:https://www.saintpaulsumc.org/event/pmo-preschool-n-200-level-f-232/
LOCATION:Nursery
END:VEVENT
BEGIN:VEVENT
DTSTART;TZID=America/New_York:20260331T074500
DTEND;TZID=America/New_York:20260331T174500
DTSTAMP:20260421T181616
CREATED:20260126T000302Z
LAST-MODIFIED:20260331T194608Z
UID:10006457-1774943100-1774979100@www.saintpaulsumc.org
SUMMARY:PMO/Preschool/N/200 Level /F
DESCRIPTION:
URL:https://www.saintpaulsumc.org/event/pmo-preschool-n-200-level-f-231/
LOCATION:Nursery
END:VEVENT
BEGIN:VEVENT
DTSTART;TZID=America/New_York:20260330T074500
DTEND;TZID=America/New_York:20260330T174500
DTSTAMP:20260421T181616
CREATED:20260125T170344Z
LAST-MODIFIED:20260330T213146Z
UID:10006454-1774856700-1774892700@www.saintpaulsumc.org
SUMMARY:PMO/Preschool/N
DESCRIPTION:
URL:https://www.saintpaulsumc.org/event/pmo-preschool-n-348/
LOCATION:Nursery
END:VEVENT
BEGIN:VEVENT
DTSTART;TZID=America/New_York:20260328T170000
DTEND;TZID=America/New_York:20260328T200000
DTSTAMP:20260421T181616
CREATED:20260302T164648Z
LAST-MODIFIED:20260328T234607Z
UID:10007111-1774717200-1774728000@www.saintpaulsumc.org
SUMMARY:Date Night/N
DESCRIPTION:
URL:https://www.saintpaulsumc.org/event/date-night-n-15/
LOCATION:Nursery
END:VEVENT
BEGIN:VEVENT
DTSTART;TZID=America/New_York:20260327T074500
DTEND;TZID=America/New_York:20260327T174500
DTSTAMP:20260421T181616
CREATED:20260121T234740Z
LAST-MODIFIED:20260327T213054Z
UID:10006365-1774597500-1774633500@www.saintpaulsumc.org
SUMMARY:PMO/Preschool/N
DESCRIPTION:
URL:https://www.saintpaulsumc.org/event/pmo-preschool-n-347/
LOCATION:Nursery
END:VEVENT
BEGIN:VEVENT
DTSTART;TZID=America/New_York:20260326T074500
DTEND;TZID=America/New_York:20260326T174500
DTSTAMP:20260421T181616
CREATED:20260121T224734Z
LAST-MODIFIED:20260320T200154Z
UID:10006363-1774511100-1774547100@www.saintpaulsumc.org
SUMMARY:PMO/Preschool/N
DESCRIPTION:
URL:https://www.saintpaulsumc.org/event/pmo-preschool-n-346/
LOCATION:Nursery
END:VEVENT
BEGIN:VEVENT
DTSTART;TZID=America/New_York:20260325T074500
DTEND;TZID=America/New_York:20260325T174500
DTSTAMP:20260421T181616
CREATED:20260120T184934Z
LAST-MODIFIED:20260320T200140Z
UID:10006348-1774424700-1774460700@www.saintpaulsumc.org
SUMMARY:PMO/Preschool/N/200 Level/F
DESCRIPTION:
URL:https://www.saintpaulsumc.org/event/pmo-preschool-n-200-level-f-230/
LOCATION:Nursery
END:VEVENT
BEGIN:VEVENT
DTSTART;TZID=America/New_York:20260324T074500
DTEND;TZID=America/New_York:20260324T174500
DTSTAMP:20260421T181616
CREATED:20260118T234646Z
LAST-MODIFIED:20260320T200139Z
UID:10006334-1774338300-1774374300@www.saintpaulsumc.org
SUMMARY:PMO/Preschool/N/200 Level /F
DESCRIPTION:
URL:https://www.saintpaulsumc.org/event/pmo-preschool-n-200-level-f-229/
LOCATION:Nursery
END:VEVENT
BEGIN:VEVENT
DTSTART;TZID=America/New_York:20260323T074500
DTEND;TZID=America/New_York:20260323T174500
DTSTAMP:20260421T181616
CREATED:20260118T180158Z
LAST-MODIFIED:20260320T200126Z
UID:10006330-1774251900-1774287900@www.saintpaulsumc.org
SUMMARY:PMO/Preschool/N
DESCRIPTION:
URL:https://www.saintpaulsumc.org/event/pmo-preschool-n-345/
LOCATION:Nursery
END:VEVENT
END:VCALENDAR