BEGIN:VCALENDAR
VERSION:2.0
PRODID:-//Saint Paul&#039;s UMC - ECPv6.15.20//NONSGML v1.0//EN
CALSCALE:GREGORIAN
METHOD:PUBLISH
X-ORIGINAL-URL:https://www.saintpaulsumc.org
X-WR-CALDESC:Events for Saint Paul&#039;s UMC
REFRESH-INTERVAL;VALUE=DURATION:PT1H
X-Robots-Tag:noindex
X-PUBLISHED-TTL:PT1H
BEGIN:VTIMEZONE
TZID:America/New_York
BEGIN:DAYLIGHT
TZOFFSETFROM:-0500
TZOFFSETTO:-0400
TZNAME:EDT
DTSTART:20250309T070000
END:DAYLIGHT
BEGIN:STANDARD
TZOFFSETFROM:-0400
TZOFFSETTO:-0500
TZNAME:EST
DTSTART:20251102T060000
END:STANDARD
BEGIN:DAYLIGHT
TZOFFSETFROM:-0500
TZOFFSETTO:-0400
TZNAME:EDT
DTSTART:20260308T070000
END:DAYLIGHT
BEGIN:STANDARD
TZOFFSETFROM:-0400
TZOFFSETTO:-0500
TZNAME:EST
DTSTART:20261101T060000
END:STANDARD
BEGIN:DAYLIGHT
TZOFFSETFROM:-0500
TZOFFSETTO:-0400
TZNAME:EDT
DTSTART:20270314T070000
END:DAYLIGHT
BEGIN:STANDARD
TZOFFSETFROM:-0400
TZOFFSETTO:-0500
TZNAME:EST
DTSTART:20271107T060000
END:STANDARD
END:VTIMEZONE
BEGIN:VEVENT
DTSTART;TZID=America/New_York:20260701T180000
DTEND;TZID=America/New_York:20260701T190000
DTSTAMP:20260425T200837
CREATED:20260424T223302Z
LAST-MODIFIED:20260425T234640Z
UID:10008706-1782928800-1782932400@www.saintpaulsumc.org
SUMMARY:Youth Rooted/P/210/211
DESCRIPTION:
URL:https://www.saintpaulsumc.org/event/youth-rooted-p-210-211-88/
LOCATION:Parlor/Room 210/211
END:VEVENT
BEGIN:VEVENT
DTSTART;TZID=America/New_York:20260701T180000
DTEND;TZID=America/New_York:20260701T200000
DTSTAMP:20260425T200837
CREATED:20260424T190313Z
LAST-MODIFIED:20260425T234640Z
UID:10008705-1782928800-1782936000@www.saintpaulsumc.org
SUMMARY:Drum Circle Tallahassee/GP
DESCRIPTION:
URL:https://www.saintpaulsumc.org/event/drum-circle-tallahassee-gp-133/
LOCATION:Generations Park
END:VEVENT
BEGIN:VEVENT
DTSTART;TZID=America/New_York:20260701T190000
DTEND;TZID=America/New_York:20260701T194500
DTSTAMP:20260425T200837
CREATED:20260425T014651Z
LAST-MODIFIED:20260425T234640Z
UID:10008708-1782932400-1782935100@www.saintpaulsumc.org
SUMMARY:Youth Choir/200
DESCRIPTION:
URL:https://www.saintpaulsumc.org/event/youth-choir-200-119/
LOCATION:Room 200
END:VEVENT
BEGIN:VEVENT
DTSTART;TZID=America/New_York:20260702T074500
DTEND;TZID=America/New_York:20260702T180000
DTSTAMP:20260425T200837
CREATED:20260425T234641Z
LAST-MODIFIED:20260425T234641Z
UID:10008712-1782978300-1783015200@www.saintpaulsumc.org
SUMMARY:MoLab Summer Camp/300/301/302/304
DESCRIPTION:
URL:https://www.saintpaulsumc.org/event/molab-summer-camp-300-301-302-304-28/
LOCATION:Rooms 300/301/302/304
END:VEVENT
END:VCALENDAR