BEGIN:VCALENDAR
VERSION:2.0
PRODID:-//Saint Paul&#039;s UMC - ECPv6.15.20//NONSGML v1.0//EN
CALSCALE:GREGORIAN
METHOD:PUBLISH
X-WR-CALNAME:Saint Paul&#039;s UMC
X-ORIGINAL-URL:https://www.saintpaulsumc.org
X-WR-CALDESC:Events for Saint Paul&#039;s UMC
REFRESH-INTERVAL;VALUE=DURATION:PT1H
X-Robots-Tag:noindex
X-PUBLISHED-TTL:PT1H
BEGIN:VTIMEZONE
TZID:America/New_York
BEGIN:DAYLIGHT
TZOFFSETFROM:-0500
TZOFFSETTO:-0400
TZNAME:EDT
DTSTART:20250309T070000
END:DAYLIGHT
BEGIN:STANDARD
TZOFFSETFROM:-0400
TZOFFSETTO:-0500
TZNAME:EST
DTSTART:20251102T060000
END:STANDARD
BEGIN:DAYLIGHT
TZOFFSETFROM:-0500
TZOFFSETTO:-0400
TZNAME:EDT
DTSTART:20260308T070000
END:DAYLIGHT
BEGIN:STANDARD
TZOFFSETFROM:-0400
TZOFFSETTO:-0500
TZNAME:EST
DTSTART:20261101T060000
END:STANDARD
BEGIN:DAYLIGHT
TZOFFSETFROM:-0500
TZOFFSETTO:-0400
TZNAME:EDT
DTSTART:20270314T070000
END:DAYLIGHT
BEGIN:STANDARD
TZOFFSETFROM:-0400
TZOFFSETTO:-0500
TZNAME:EST
DTSTART:20271107T060000
END:STANDARD
END:VTIMEZONE
BEGIN:VEVENT
DTSTART;VALUE=DATE:20260608
DTEND;VALUE=DATE:20260614
DTSTAMP:20260420T122506
CREATED:20260409T171253Z
LAST-MODIFIED:20260417T003141Z
UID:10008421-1780876800-1781395199@www.saintpaulsumc.org
SUMMARY:Music Camp
DESCRIPTION:
URL:https://www.saintpaulsumc.org/event/music-camp-2/
END:VEVENT
BEGIN:VEVENT
DTSTART;VALUE=DATE:20260612
DTEND;VALUE=DATE:20260613
DTSTAMP:20260420T122506
CREATED:20260409T171253Z
LAST-MODIFIED:20260417T003142Z
UID:10008427-1781222400-1781308799@www.saintpaulsumc.org
SUMMARY:Church Office Closed
DESCRIPTION:
URL:https://www.saintpaulsumc.org/event/church-office-closed-130/
END:VEVENT
BEGIN:VEVENT
DTSTART;TZID=America/New_York:20260612T074500
DTEND;TZID=America/New_York:20260612T180000
DTSTAMP:20260420T122506
CREATED:20260409T171253Z
LAST-MODIFIED:20260417T003142Z
UID:10008426-1781250300-1781287200@www.saintpaulsumc.org
SUMMARY:MoLab Summer Camp/300/301/302/304
DESCRIPTION:
URL:https://www.saintpaulsumc.org/event/molab-summer-camp-300-301-302-304-14/
LOCATION:Rooms 300/301/302/304
END:VEVENT
BEGIN:VEVENT
DTSTART;TZID=America/New_York:20260612T090000
DTEND;TZID=America/New_York:20260612T140000
DTSTAMP:20260420T122506
CREATED:20260409T171253Z
LAST-MODIFIED:20260417T003142Z
UID:10008429-1781254800-1781272800@www.saintpaulsumc.org
SUMMARY:Alzheimer's Respite/Parlor
DESCRIPTION:
URL:https://www.saintpaulsumc.org/event/alzheimers-respite-parlor-123/
END:VEVENT
BEGIN:VEVENT
DTSTART;TZID=America/New_York:20260612T100000
DTEND;TZID=America/New_York:20260612T113000
DTSTAMP:20260420T122506
CREATED:20260409T171253Z
LAST-MODIFIED:20260417T003142Z
UID:10008428-1781258400-1781263800@www.saintpaulsumc.org
SUMMARY:Family & Me Music/Room 200   o9:15   c11:15
DESCRIPTION:
URL:https://www.saintpaulsumc.org/event/family-me-music-room-200-o915-c1115-118/
LOCATION:Room 200
END:VEVENT
BEGIN:VEVENT
DTSTART;TZID=America/New_York:20260612T190000
DTEND;TZID=America/New_York:20260612T210000
DTSTAMP:20260420T122506
CREATED:20260413T184654Z
LAST-MODIFIED:20260417T003142Z
UID:10008589-1781290800-1781298000@www.saintpaulsumc.org
SUMMARY:Tallahassee Young People/300    o 6:30p   c8:00p
DESCRIPTION:
URL:https://www.saintpaulsumc.org/event/tallahassee-young-people-300-o-630p-c800p-9/
LOCATION:Room 300
END:VEVENT
END:VCALENDAR