BEGIN:VCALENDAR
VERSION:2.0
PRODID:-//Saint Paul&#039;s UMC - ECPv6.15.20//NONSGML v1.0//EN
CALSCALE:GREGORIAN
METHOD:PUBLISH
X-WR-CALNAME:Saint Paul&#039;s UMC
X-ORIGINAL-URL:https://www.saintpaulsumc.org
X-WR-CALDESC:Events for Saint Paul&#039;s UMC
REFRESH-INTERVAL;VALUE=DURATION:PT1H
X-Robots-Tag:noindex
X-PUBLISHED-TTL:PT1H
BEGIN:VTIMEZONE
TZID:America/New_York
BEGIN:DAYLIGHT
TZOFFSETFROM:-0500
TZOFFSETTO:-0400
TZNAME:EDT
DTSTART:20250309T070000
END:DAYLIGHT
BEGIN:STANDARD
TZOFFSETFROM:-0400
TZOFFSETTO:-0500
TZNAME:EST
DTSTART:20251102T060000
END:STANDARD
BEGIN:DAYLIGHT
TZOFFSETFROM:-0500
TZOFFSETTO:-0400
TZNAME:EDT
DTSTART:20260308T070000
END:DAYLIGHT
BEGIN:STANDARD
TZOFFSETFROM:-0400
TZOFFSETTO:-0500
TZNAME:EST
DTSTART:20261101T060000
END:STANDARD
BEGIN:DAYLIGHT
TZOFFSETFROM:-0500
TZOFFSETTO:-0400
TZNAME:EDT
DTSTART:20270314T070000
END:DAYLIGHT
BEGIN:STANDARD
TZOFFSETFROM:-0400
TZOFFSETTO:-0500
TZNAME:EST
DTSTART:20271107T060000
END:STANDARD
END:VTIMEZONE
BEGIN:VEVENT
DTSTART;VALUE=DATE:20260608
DTEND;VALUE=DATE:20260614
DTSTAMP:20260420T122200
CREATED:20260409T171253Z
LAST-MODIFIED:20260417T003141Z
UID:10008421-1780876800-1781395199@www.saintpaulsumc.org
SUMMARY:Music Camp
DESCRIPTION:
URL:https://www.saintpaulsumc.org/event/music-camp-2/
END:VEVENT
BEGIN:VEVENT
DTSTART;TZID=America/New_York:20260610T074500
DTEND;TZID=America/New_York:20260610T180000
DTSTAMP:20260420T122200
CREATED:20260409T171253Z
LAST-MODIFIED:20260417T003141Z
UID:10008422-1781077500-1781114400@www.saintpaulsumc.org
SUMMARY:MoLab Summer Camp/300/301/302/304
DESCRIPTION:
URL:https://www.saintpaulsumc.org/event/molab-summer-camp-300-301-302-304-12/
LOCATION:Rooms 300/301/302/304
END:VEVENT
BEGIN:VEVENT
DTSTART;TZID=America/New_York:20260610T080000
DTEND;TZID=America/New_York:20260610T090000
DTSTAMP:20260420T122200
CREATED:20260409T171252Z
LAST-MODIFIED:20260417T003141Z
UID:10008417-1781078400-1781082000@www.saintpaulsumc.org
SUMMARY:Prayer Group
DESCRIPTION:https://us02web.zoom.us/j/84920767002?pwd=bzQ0c2duNUJJV05UWUZWMXZKb1Y1UT09 \nMeeting ID: 849 2076 7002 \nPasscode: 037548
URL:https://www.saintpaulsumc.org/event/prayer-group-128/
LOCATION:Zoom
END:VEVENT
BEGIN:VEVENT
DTSTART;TZID=America/New_York:20260610T180000
DTEND;TZID=America/New_York:20260610T190000
DTSTAMP:20260420T122200
CREATED:20260409T171252Z
LAST-MODIFIED:20260417T003141Z
UID:10008420-1781114400-1781118000@www.saintpaulsumc.org
SUMMARY:Youth Rooted/P/210/211
DESCRIPTION:
URL:https://www.saintpaulsumc.org/event/youth-rooted-p-210-211-85/
LOCATION:Parlor/Room 210/211
END:VEVENT
BEGIN:VEVENT
DTSTART;TZID=America/New_York:20260610T180000
DTEND;TZID=America/New_York:20260610T200000
DTSTAMP:20260420T122200
CREATED:20260409T171252Z
LAST-MODIFIED:20260417T003142Z
UID:10008419-1781114400-1781121600@www.saintpaulsumc.org
SUMMARY:Drum Circle Tallahassee/GP
DESCRIPTION:
URL:https://www.saintpaulsumc.org/event/drum-circle-tallahassee-gp-130/
LOCATION:Generations Park
END:VEVENT
BEGIN:VEVENT
DTSTART;TZID=America/New_York:20260610T190000
DTEND;TZID=America/New_York:20260610T194500
DTSTAMP:20260420T122200
CREATED:20260409T171252Z
LAST-MODIFIED:20260417T003141Z
UID:10008418-1781118000-1781120700@www.saintpaulsumc.org
SUMMARY:Youth Choir/200
DESCRIPTION:
URL:https://www.saintpaulsumc.org/event/youth-choir-200-116/
LOCATION:Room 200
END:VEVENT
END:VCALENDAR