BEGIN:VCALENDAR
VERSION:2.0
PRODID:-//Saint Paul&#039;s UMC - ECPv6.15.20//NONSGML v1.0//EN
CALSCALE:GREGORIAN
METHOD:PUBLISH
X-ORIGINAL-URL:https://www.saintpaulsumc.org
X-WR-CALDESC:Events for Saint Paul&#039;s UMC
REFRESH-INTERVAL;VALUE=DURATION:PT1H
X-Robots-Tag:noindex
X-PUBLISHED-TTL:PT1H
BEGIN:VTIMEZONE
TZID:America/New_York
BEGIN:DAYLIGHT
TZOFFSETFROM:-0500
TZOFFSETTO:-0400
TZNAME:EDT
DTSTART:20250309T070000
END:DAYLIGHT
BEGIN:STANDARD
TZOFFSETFROM:-0400
TZOFFSETTO:-0500
TZNAME:EST
DTSTART:20251102T060000
END:STANDARD
BEGIN:DAYLIGHT
TZOFFSETFROM:-0500
TZOFFSETTO:-0400
TZNAME:EDT
DTSTART:20260308T070000
END:DAYLIGHT
BEGIN:STANDARD
TZOFFSETFROM:-0400
TZOFFSETTO:-0500
TZNAME:EST
DTSTART:20261101T060000
END:STANDARD
BEGIN:DAYLIGHT
TZOFFSETFROM:-0500
TZOFFSETTO:-0400
TZNAME:EDT
DTSTART:20270314T070000
END:DAYLIGHT
BEGIN:STANDARD
TZOFFSETFROM:-0400
TZOFFSETTO:-0500
TZNAME:EST
DTSTART:20271107T060000
END:STANDARD
END:VTIMEZONE
BEGIN:VEVENT
DTSTART;VALUE=DATE:20260608
DTEND;VALUE=DATE:20260614
DTSTAMP:20260420T105036
CREATED:20260409T171253Z
LAST-MODIFIED:20260417T003141Z
UID:10008421-1780876800-1781395199@www.saintpaulsumc.org
SUMMARY:Music Camp
DESCRIPTION:
URL:https://www.saintpaulsumc.org/event/music-camp-2/
END:VEVENT
BEGIN:VEVENT
DTSTART;TZID=America/New_York:20260609T074500
DTEND;TZID=America/New_York:20260609T180000
DTSTAMP:20260420T105036
CREATED:20260409T171251Z
LAST-MODIFIED:20260417T003141Z
UID:10008414-1780991100-1781028000@www.saintpaulsumc.org
SUMMARY:MoLab Summer Camp/300/301/302/304
DESCRIPTION:
URL:https://www.saintpaulsumc.org/event/molab-summer-camp-300-301-302-304-11/
LOCATION:Rooms 300/301/302/304
END:VEVENT
BEGIN:VEVENT
DTSTART;TZID=America/New_York:20260609T083000
DTEND;TZID=America/New_York:20260609T093000
DTSTAMP:20260420T105036
CREATED:20260409T171251Z
LAST-MODIFIED:20260417T003140Z
UID:10008412-1780993800-1780997400@www.saintpaulsumc.org
SUMMARY:Men's Reading Community/Ology Brewing
DESCRIPTION:Requested by David GillCreated by linda 1/10/23
URL:https://www.saintpaulsumc.org/event/mens-reading-community-ology-brewing-128/
LOCATION:Ology Brewing Co\, 2910 Kerry Forest Pkwy\, Miccosukee\, FL\, United States
GEO:30.542218;-84.227861
X-APPLE-STRUCTURED-LOCATION;VALUE=URI;X-ADDRESS=Ology Brewing Co 2910 Kerry Forest Pkwy Miccosukee FL United States;X-APPLE-RADIUS=500;X-TITLE=2910 Kerry Forest Pkwy:geo:-84.227861,30.542218
END:VEVENT
BEGIN:VEVENT
DTSTART;TZID=America/New_York:20260609T100000
DTEND;TZID=America/New_York:20260609T120000
DTSTAMP:20260420T105036
CREATED:20260409T171251Z
LAST-MODIFIED:20260417T003140Z
UID:10008413-1780999200-1781006400@www.saintpaulsumc.org
SUMMARY:United Women In Faith/SH    o9:15   c12:30
DESCRIPTION:Mary Ann Brown
URL:https://www.saintpaulsumc.org/event/united-women-in-faith-sh-o915-c1230-30/
LOCATION:Sanders Hall – 2 long tables for food / 4 round tables with 6 chairs each
END:VEVENT
BEGIN:VEVENT
DTSTART;TZID=America/New_York:20260609T181500
DTEND;TZID=America/New_York:20260609T191500
DTSTAMP:20260420T105036
CREATED:20260409T171251Z
LAST-MODIFIED:20260417T003141Z
UID:10008415-1781028900-1781032500@www.saintpaulsumc.org
SUMMARY:Covenant Chancel Choir/CR
DESCRIPTION:Requested by GayeCreated by Linda 9/24/25
URL:https://www.saintpaulsumc.org/event/covenant-chancel-choir-cr-34/
LOCATION:Choir Room
END:VEVENT
BEGIN:VEVENT
DTSTART;TZID=America/New_York:20260609T190000
DTEND;TZID=America/New_York:20260609T210000
DTSTAMP:20260420T105036
CREATED:20260413T184653Z
LAST-MODIFIED:20260417T003141Z
UID:10008588-1781031600-1781038800@www.saintpaulsumc.org
SUMMARY:Young People's Group/300   o6:30   c8:00
DESCRIPTION:
URL:https://www.saintpaulsumc.org/event/young-peoples-group-300-o630-c800-9/
LOCATION:Room 300
END:VEVENT
BEGIN:VEVENT
DTSTART;TZID=America/New_York:20260609T193000
DTEND;TZID=America/New_York:20260609T203000
DTSTAMP:20260420T105036
CREATED:20260409T171251Z
LAST-MODIFIED:20260417T003141Z
UID:10008416-1781033400-1781037000@www.saintpaulsumc.org
SUMMARY:Selah/CR    o 6:00    c 8:15
DESCRIPTION:Requested by CynthiaCreated by linda
URL:https://www.saintpaulsumc.org/event/selah-cr-o-600-c-815-124/
LOCATION:Choir Room
END:VEVENT
END:VCALENDAR