BEGIN:VCALENDAR
VERSION:2.0
PRODID:-//Saint Paul&#039;s UMC - ECPv6.15.20//NONSGML v1.0//EN
CALSCALE:GREGORIAN
METHOD:PUBLISH
X-ORIGINAL-URL:https://www.saintpaulsumc.org
X-WR-CALDESC:Events for Saint Paul&#039;s UMC
REFRESH-INTERVAL;VALUE=DURATION:PT1H
X-Robots-Tag:noindex
X-PUBLISHED-TTL:PT1H
BEGIN:VTIMEZONE
TZID:America/New_York
BEGIN:DAYLIGHT
TZOFFSETFROM:-0500
TZOFFSETTO:-0400
TZNAME:EDT
DTSTART:20250309T070000
END:DAYLIGHT
BEGIN:STANDARD
TZOFFSETFROM:-0400
TZOFFSETTO:-0500
TZNAME:EST
DTSTART:20251102T060000
END:STANDARD
BEGIN:DAYLIGHT
TZOFFSETFROM:-0500
TZOFFSETTO:-0400
TZNAME:EDT
DTSTART:20260308T070000
END:DAYLIGHT
BEGIN:STANDARD
TZOFFSETFROM:-0400
TZOFFSETTO:-0500
TZNAME:EST
DTSTART:20261101T060000
END:STANDARD
BEGIN:DAYLIGHT
TZOFFSETFROM:-0500
TZOFFSETTO:-0400
TZNAME:EDT
DTSTART:20270314T070000
END:DAYLIGHT
BEGIN:STANDARD
TZOFFSETFROM:-0400
TZOFFSETTO:-0500
TZNAME:EST
DTSTART:20271107T060000
END:STANDARD
END:VTIMEZONE
BEGIN:VEVENT
DTSTART;VALUE=DATE:20260601
DTEND;VALUE=DATE:20260606
DTSTAMP:20260422T061503
CREATED:20260409T171248Z
LAST-MODIFIED:20260417T003139Z
UID:10008397-1780272000-1780703999@www.saintpaulsumc.org
SUMMARY:Extreme Explorers
DESCRIPTION:
URL:https://www.saintpaulsumc.org/event/extreme-explorers-2/
END:VEVENT
BEGIN:VEVENT
DTSTART;VALUE=DATE:20260605
DTEND;VALUE=DATE:20260606
DTSTAMP:20260422T061503
CREATED:20260409T171249Z
LAST-MODIFIED:20260417T003139Z
UID:10008402-1780617600-1780703999@www.saintpaulsumc.org
SUMMARY:Church Office Closed
DESCRIPTION:
URL:https://www.saintpaulsumc.org/event/church-office-closed-129/
END:VEVENT
BEGIN:VEVENT
DTSTART;TZID=America/New_York:20260605T074500
DTEND;TZID=America/New_York:20260605T180000
DTSTAMP:20260422T061503
CREATED:20260409T171249Z
LAST-MODIFIED:20260417T003138Z
UID:10008401-1780645500-1780682400@www.saintpaulsumc.org
SUMMARY:MoLab Summer Camp/300/301/302/304
DESCRIPTION:
URL:https://www.saintpaulsumc.org/event/molab-summer-camp-300-301-302-304-9/
LOCATION:Rooms 300/301/302/304
END:VEVENT
BEGIN:VEVENT
DTSTART;TZID=America/New_York:20260605T090000
DTEND;TZID=America/New_York:20260605T140000
DTSTAMP:20260422T061503
CREATED:20260409T171248Z
LAST-MODIFIED:20260417T003139Z
UID:10008399-1780650000-1780668000@www.saintpaulsumc.org
SUMMARY:Alzheimer's Respite/Parlor
DESCRIPTION:
URL:https://www.saintpaulsumc.org/event/alzheimers-respite-parlor-122/
END:VEVENT
BEGIN:VEVENT
DTSTART;TZID=America/New_York:20260605T100000
DTEND;TZID=America/New_York:20260605T110000
DTSTAMP:20260422T061503
CREATED:20260409T171248Z
LAST-MODIFIED:20260417T003139Z
UID:10008396-1780653600-1780657200@www.saintpaulsumc.org
SUMMARY:Creation Care Meeting/Ground Ops Coffee
DESCRIPTION:
URL:https://www.saintpaulsumc.org/event/creation-care-meeting-ground-ops-coffee-10/
LOCATION:Ground Ops Roastery + Bakehouse\, 810 Thomasville Rd\, Tallahassee\, FL\, United States
GEO:30.450814;-84.280388
X-APPLE-STRUCTURED-LOCATION;VALUE=URI;X-ADDRESS=Ground Ops Roastery + Bakehouse 810 Thomasville Rd Tallahassee FL United States;X-APPLE-RADIUS=500;X-TITLE=810 Thomasville Rd:geo:-84.280388,30.450814
END:VEVENT
BEGIN:VEVENT
DTSTART;TZID=America/New_York:20260605T100000
DTEND;TZID=America/New_York:20260605T113000
DTSTAMP:20260422T061503
CREATED:20260409T171248Z
LAST-MODIFIED:20260417T003139Z
UID:10008400-1780653600-1780659000@www.saintpaulsumc.org
SUMMARY:Family & Me Music/Room 200   o9:15   c11:15
DESCRIPTION:
URL:https://www.saintpaulsumc.org/event/family-me-music-room-200-o915-c1115-117/
LOCATION:Room 200
END:VEVENT
BEGIN:VEVENT
DTSTART;TZID=America/New_York:20260605T190000
DTEND;TZID=America/New_York:20260605T210000
DTSTAMP:20260422T061503
CREATED:20260413T184651Z
LAST-MODIFIED:20260417T003139Z
UID:10008587-1780686000-1780693200@www.saintpaulsumc.org
SUMMARY:Tallahassee Young People/300    o 6:30p   c8:00p
DESCRIPTION:
URL:https://www.saintpaulsumc.org/event/tallahassee-young-people-300-o-630p-c800p-8/
LOCATION:Room 300
END:VEVENT
END:VCALENDAR