BEGIN:VCALENDAR
VERSION:2.0
PRODID:-//Saint Paul&#039;s UMC - ECPv6.15.20//NONSGML v1.0//EN
CALSCALE:GREGORIAN
METHOD:PUBLISH
X-WR-CALNAME:Saint Paul&#039;s UMC
X-ORIGINAL-URL:https://www.saintpaulsumc.org
X-WR-CALDESC:Events for Saint Paul&#039;s UMC
REFRESH-INTERVAL;VALUE=DURATION:PT1H
X-Robots-Tag:noindex
X-PUBLISHED-TTL:PT1H
BEGIN:VTIMEZONE
TZID:America/New_York
BEGIN:DAYLIGHT
TZOFFSETFROM:-0500
TZOFFSETTO:-0400
TZNAME:EDT
DTSTART:20250309T070000
END:DAYLIGHT
BEGIN:STANDARD
TZOFFSETFROM:-0400
TZOFFSETTO:-0500
TZNAME:EST
DTSTART:20251102T060000
END:STANDARD
BEGIN:DAYLIGHT
TZOFFSETFROM:-0500
TZOFFSETTO:-0400
TZNAME:EDT
DTSTART:20260308T070000
END:DAYLIGHT
BEGIN:STANDARD
TZOFFSETFROM:-0400
TZOFFSETTO:-0500
TZNAME:EST
DTSTART:20261101T060000
END:STANDARD
BEGIN:DAYLIGHT
TZOFFSETFROM:-0500
TZOFFSETTO:-0400
TZNAME:EDT
DTSTART:20270314T070000
END:DAYLIGHT
BEGIN:STANDARD
TZOFFSETFROM:-0400
TZOFFSETTO:-0500
TZNAME:EST
DTSTART:20271107T060000
END:STANDARD
END:VTIMEZONE
BEGIN:VEVENT
DTSTART;VALUE=DATE:20260601
DTEND;VALUE=DATE:20260606
DTSTAMP:20260420T122456
CREATED:20260409T171248Z
LAST-MODIFIED:20260417T003139Z
UID:10008397-1780272000-1780703999@www.saintpaulsumc.org
SUMMARY:Extreme Explorers
DESCRIPTION:
URL:https://www.saintpaulsumc.org/event/extreme-explorers-2/
END:VEVENT
BEGIN:VEVENT
DTSTART;TZID=America/New_York:20260603T074500
DTEND;TZID=America/New_York:20260603T180000
DTSTAMP:20260420T122456
CREATED:20260409T171246Z
LAST-MODIFIED:20260417T003138Z
UID:10008389-1780472700-1780509600@www.saintpaulsumc.org
SUMMARY:MoLab Summer Camp/300/301/302/304
DESCRIPTION:
URL:https://www.saintpaulsumc.org/event/molab-summer-camp-300-301-302-304-7/
LOCATION:Rooms 300/301/302/304
END:VEVENT
BEGIN:VEVENT
DTSTART;TZID=America/New_York:20260603T080000
DTEND;TZID=America/New_York:20260603T090000
DTSTAMP:20260420T122456
CREATED:20260409T171246Z
LAST-MODIFIED:20260417T003137Z
UID:10008390-1780473600-1780477200@www.saintpaulsumc.org
SUMMARY:Prayer Group
DESCRIPTION:https://us02web.zoom.us/j/84920767002?pwd=bzQ0c2duNUJJV05UWUZWMXZKb1Y1UT09 \nMeeting ID: 849 2076 7002 \nPasscode: 037548
URL:https://www.saintpaulsumc.org/event/prayer-group-127/
LOCATION:Zoom
END:VEVENT
BEGIN:VEVENT
DTSTART;TZID=America/New_York:20260603T180000
DTEND;TZID=America/New_York:20260603T190000
DTSTAMP:20260420T122456
CREATED:20260409T171246Z
LAST-MODIFIED:20260417T003138Z
UID:10008388-1780509600-1780513200@www.saintpaulsumc.org
SUMMARY:Youth Rooted/P/210/211
DESCRIPTION:
URL:https://www.saintpaulsumc.org/event/youth-rooted-p-210-211-84/
LOCATION:Parlor/Room 210/211
END:VEVENT
BEGIN:VEVENT
DTSTART;TZID=America/New_York:20260603T180000
DTEND;TZID=America/New_York:20260603T200000
DTSTAMP:20260420T122456
CREATED:20260409T171247Z
LAST-MODIFIED:20260417T003138Z
UID:10008391-1780509600-1780516800@www.saintpaulsumc.org
SUMMARY:Drum Circle Tallahassee/GP
DESCRIPTION:
URL:https://www.saintpaulsumc.org/event/drum-circle-tallahassee-gp-129/
LOCATION:Generations Park
END:VEVENT
BEGIN:VEVENT
DTSTART;TZID=America/New_York:20260603T190000
DTEND;TZID=America/New_York:20260603T194500
DTSTAMP:20260420T122456
CREATED:20260409T171247Z
LAST-MODIFIED:20260417T003138Z
UID:10008392-1780513200-1780515900@www.saintpaulsumc.org
SUMMARY:Youth Choir/200
DESCRIPTION:
URL:https://www.saintpaulsumc.org/event/youth-choir-200-115/
LOCATION:Room 200
END:VEVENT
END:VCALENDAR