BEGIN:VCALENDAR
VERSION:2.0
PRODID:-//Saint Paul&#039;s UMC - ECPv6.15.20//NONSGML v1.0//EN
CALSCALE:GREGORIAN
METHOD:PUBLISH
X-ORIGINAL-URL:https://www.saintpaulsumc.org
X-WR-CALDESC:Events for Saint Paul&#039;s UMC
REFRESH-INTERVAL;VALUE=DURATION:PT1H
X-Robots-Tag:noindex
X-PUBLISHED-TTL:PT1H
BEGIN:VTIMEZONE
TZID:America/New_York
BEGIN:DAYLIGHT
TZOFFSETFROM:-0500
TZOFFSETTO:-0400
TZNAME:EDT
DTSTART:20250309T070000
END:DAYLIGHT
BEGIN:STANDARD
TZOFFSETFROM:-0400
TZOFFSETTO:-0500
TZNAME:EST
DTSTART:20251102T060000
END:STANDARD
BEGIN:DAYLIGHT
TZOFFSETFROM:-0500
TZOFFSETTO:-0400
TZNAME:EDT
DTSTART:20260308T070000
END:DAYLIGHT
BEGIN:STANDARD
TZOFFSETFROM:-0400
TZOFFSETTO:-0500
TZNAME:EST
DTSTART:20261101T060000
END:STANDARD
BEGIN:DAYLIGHT
TZOFFSETFROM:-0500
TZOFFSETTO:-0400
TZNAME:EDT
DTSTART:20270314T070000
END:DAYLIGHT
BEGIN:STANDARD
TZOFFSETFROM:-0400
TZOFFSETTO:-0500
TZNAME:EST
DTSTART:20271107T060000
END:STANDARD
END:VTIMEZONE
BEGIN:VEVENT
DTSTART;VALUE=DATE:20260522
DTEND;VALUE=DATE:20260523
DTSTAMP:20260420T140318
CREATED:20260409T171238Z
LAST-MODIFIED:20260417T003132Z
UID:10008347-1779408000-1779494399@www.saintpaulsumc.org
SUMMARY:Church Office Closed
DESCRIPTION:
URL:https://www.saintpaulsumc.org/event/church-office-closed-127/
END:VEVENT
BEGIN:VEVENT
DTSTART;TZID=America/New_York:20260522T074500
DTEND;TZID=America/New_York:20260522T174500
DTSTAMP:20260420T140318
CREATED:20260409T171238Z
LAST-MODIFIED:20260417T003132Z
UID:10008348-1779435900-1779471900@www.saintpaulsumc.org
SUMMARY:PMO/Preschool/N
DESCRIPTION:
URL:https://www.saintpaulsumc.org/event/pmo-preschool-n-371/
LOCATION:Nursery
END:VEVENT
BEGIN:VEVENT
DTSTART;TZID=America/New_York:20260522T090000
DTEND;TZID=America/New_York:20260522T140000
DTSTAMP:20260420T140318
CREATED:20260409T171238Z
LAST-MODIFIED:20260417T003132Z
UID:10008349-1779440400-1779458400@www.saintpaulsumc.org
SUMMARY:Alzheimer's Respite/Parlor
DESCRIPTION:
URL:https://www.saintpaulsumc.org/event/alzheimers-respite-parlor-120/
END:VEVENT
BEGIN:VEVENT
DTSTART;TZID=America/New_York:20260522T100000
DTEND;TZID=America/New_York:20260522T113000
DTSTAMP:20260420T140318
CREATED:20260409T171239Z
LAST-MODIFIED:20260417T003132Z
UID:10008350-1779444000-1779449400@www.saintpaulsumc.org
SUMMARY:Family & Me Music/Room 200   o9:15   c11:15
DESCRIPTION:
URL:https://www.saintpaulsumc.org/event/family-me-music-room-200-o915-c1115-115/
LOCATION:Room 200
END:VEVENT
BEGIN:VEVENT
DTSTART;TZID=America/New_York:20260522T190000
DTEND;TZID=America/New_York:20260522T210000
DTSTAMP:20260420T140318
CREATED:20260413T184645Z
LAST-MODIFIED:20260417T003132Z
UID:10008583-1779476400-1779483600@www.saintpaulsumc.org
SUMMARY:Tallahassee Young People/300    o 6:30p   c8:00p
DESCRIPTION:
URL:https://www.saintpaulsumc.org/event/tallahassee-young-people-300-o-630p-c800p-6/
LOCATION:Room 300
END:VEVENT
END:VCALENDAR