BEGIN:VCALENDAR
VERSION:2.0
PRODID:-//Saint Paul&#039;s UMC - ECPv6.15.20//NONSGML v1.0//EN
CALSCALE:GREGORIAN
METHOD:PUBLISH
X-ORIGINAL-URL:https://www.saintpaulsumc.org
X-WR-CALDESC:Events for Saint Paul&#039;s UMC
REFRESH-INTERVAL;VALUE=DURATION:PT1H
X-Robots-Tag:noindex
X-PUBLISHED-TTL:PT1H
BEGIN:VTIMEZONE
TZID:America/New_York
BEGIN:DAYLIGHT
TZOFFSETFROM:-0500
TZOFFSETTO:-0400
TZNAME:EDT
DTSTART:20250309T070000
END:DAYLIGHT
BEGIN:STANDARD
TZOFFSETFROM:-0400
TZOFFSETTO:-0500
TZNAME:EST
DTSTART:20251102T060000
END:STANDARD
BEGIN:DAYLIGHT
TZOFFSETFROM:-0500
TZOFFSETTO:-0400
TZNAME:EDT
DTSTART:20260308T070000
END:DAYLIGHT
BEGIN:STANDARD
TZOFFSETFROM:-0400
TZOFFSETTO:-0500
TZNAME:EST
DTSTART:20261101T060000
END:STANDARD
BEGIN:DAYLIGHT
TZOFFSETFROM:-0500
TZOFFSETTO:-0400
TZNAME:EDT
DTSTART:20270314T070000
END:DAYLIGHT
BEGIN:STANDARD
TZOFFSETFROM:-0400
TZOFFSETTO:-0500
TZNAME:EST
DTSTART:20271107T060000
END:STANDARD
END:VTIMEZONE
BEGIN:VEVENT
DTSTART;TZID=America/New_York:20260521T074500
DTEND;TZID=America/New_York:20260521T174500
DTSTAMP:20260420T074509
CREATED:20260409T171237Z
LAST-MODIFIED:20260417T003132Z
UID:10008345-1779349500-1779385500@www.saintpaulsumc.org
SUMMARY:PMO/Preschool/N
DESCRIPTION:
URL:https://www.saintpaulsumc.org/event/pmo-preschool-n-370/
LOCATION:Nursery
END:VEVENT
BEGIN:VEVENT
DTSTART;TZID=America/New_York:20260521T100000
DTEND;TZID=America/New_York:20260521T113000
DTSTAMP:20260420T074509
CREATED:20260409T171237Z
LAST-MODIFIED:20260417T003131Z
UID:10008344-1779357600-1779363000@www.saintpaulsumc.org
SUMMARY:PPD Support Group/Parlor/Nursery
DESCRIPTION:
URL:https://www.saintpaulsumc.org/event/ppd-support-group-parlor-nursery-29/
LOCATION:Parlor & Nursery
END:VEVENT
BEGIN:VEVENT
DTSTART;TZID=America/New_York:20260521T110000
DTEND;TZID=America/New_York:20260521T120000
DTSTAMP:20260420T074509
CREATED:20260409T171238Z
LAST-MODIFIED:20260417T003132Z
UID:10008346-1779361200-1779364800@www.saintpaulsumc.org
SUMMARY:Chair Yoga Class/SH
DESCRIPTION:
URL:https://www.saintpaulsumc.org/event/chair-yoga-class-sh-7/
LOCATION:Sanders Hall
END:VEVENT
END:VCALENDAR