BEGIN:VCALENDAR
VERSION:2.0
PRODID:-//Saint Paul&#039;s UMC - ECPv6.15.20//NONSGML v1.0//EN
CALSCALE:GREGORIAN
METHOD:PUBLISH
X-ORIGINAL-URL:https://www.saintpaulsumc.org
X-WR-CALDESC:Events for Saint Paul&#039;s UMC
REFRESH-INTERVAL;VALUE=DURATION:PT1H
X-Robots-Tag:noindex
X-PUBLISHED-TTL:PT1H
BEGIN:VTIMEZONE
TZID:America/New_York
BEGIN:DAYLIGHT
TZOFFSETFROM:-0500
TZOFFSETTO:-0400
TZNAME:EDT
DTSTART:20250309T070000
END:DAYLIGHT
BEGIN:STANDARD
TZOFFSETFROM:-0400
TZOFFSETTO:-0500
TZNAME:EST
DTSTART:20251102T060000
END:STANDARD
BEGIN:DAYLIGHT
TZOFFSETFROM:-0500
TZOFFSETTO:-0400
TZNAME:EDT
DTSTART:20260308T070000
END:DAYLIGHT
BEGIN:STANDARD
TZOFFSETFROM:-0400
TZOFFSETTO:-0500
TZNAME:EST
DTSTART:20261101T060000
END:STANDARD
BEGIN:DAYLIGHT
TZOFFSETFROM:-0500
TZOFFSETTO:-0400
TZNAME:EDT
DTSTART:20270314T070000
END:DAYLIGHT
BEGIN:STANDARD
TZOFFSETFROM:-0400
TZOFFSETTO:-0500
TZNAME:EST
DTSTART:20271107T060000
END:STANDARD
END:VTIMEZONE
BEGIN:VEVENT
DTSTART;TZID=America/New_York:20260519T074500
DTEND;TZID=America/New_York:20260519T174500
DTSTAMP:20260420T123148
CREATED:20260409T171235Z
LAST-MODIFIED:20260417T003130Z
UID:10008333-1779176700-1779212700@www.saintpaulsumc.org
SUMMARY:PMO/Preschool/N/200 Level /F
DESCRIPTION:
URL:https://www.saintpaulsumc.org/event/pmo-preschool-n-200-level-f-245/
LOCATION:Nursery
END:VEVENT
BEGIN:VEVENT
DTSTART;TZID=America/New_York:20260519T083000
DTEND;TZID=America/New_York:20260519T093000
DTSTAMP:20260420T123148
CREATED:20260409T171235Z
LAST-MODIFIED:20260417T003129Z
UID:10008331-1779179400-1779183000@www.saintpaulsumc.org
SUMMARY:Men's Reading Community/Ology Brewing
DESCRIPTION:Requested by David GillCreated by linda 1/10/23
URL:https://www.saintpaulsumc.org/event/mens-reading-community-ology-brewing-125/
LOCATION:Ology Brewing Co\, 2910 Kerry Forest Pkwy\, Miccosukee\, FL\, United States
GEO:30.542218;-84.227861
X-APPLE-STRUCTURED-LOCATION;VALUE=URI;X-ADDRESS=Ology Brewing Co 2910 Kerry Forest Pkwy Miccosukee FL United States;X-APPLE-RADIUS=500;X-TITLE=2910 Kerry Forest Pkwy:geo:-84.227861,30.542218
END:VEVENT
BEGIN:VEVENT
DTSTART;TZID=America/New_York:20260519T113000
DTEND;TZID=America/New_York:20260519T130000
DTSTAMP:20260420T123148
CREATED:20260409T171235Z
LAST-MODIFIED:20260417T003129Z
UID:10008332-1779190200-1779195600@www.saintpaulsumc.org
SUMMARY:Alzheimer's Support Luncheon/P   o11:00 c1:00
DESCRIPTION:Requested by ChantelCreated by linda 7/6/2020
URL:https://www.saintpaulsumc.org/event/alzheimers-support-luncheon-p-o1100-c100-8/
LOCATION:Parlor
END:VEVENT
BEGIN:VEVENT
DTSTART;TZID=America/New_York:20260519T113000
DTEND;TZID=America/New_York:20260519T130000
DTSTAMP:20260420T123148
CREATED:20260409T171235Z
LAST-MODIFIED:20260417T003129Z
UID:10008334-1779190200-1779195600@www.saintpaulsumc.org
SUMMARY:Alzheimer's Support Group/Parlor
DESCRIPTION:
URL:https://www.saintpaulsumc.org/event/alzheimers-support-group-parlor-7/
LOCATION:Parlor
END:VEVENT
BEGIN:VEVENT
DTSTART;TZID=America/New_York:20260519T180000
DTEND;TZID=America/New_York:20260519T190000
DTSTAMP:20260420T123148
CREATED:20260409T171236Z
LAST-MODIFIED:20260417T003130Z
UID:10008338-1779213600-1779217200@www.saintpaulsumc.org
SUMMARY:Capital Area Justice Celebration/Jacob Chapel Baptist Church
DESCRIPTION:
URL:https://www.saintpaulsumc.org/event/capital-area-justice-celebration-jacob-chapel-baptist-church/
LOCATION:Jacob Chapel Baptist Church\, 2333 Lake Bradford Rd\, Tallahassee
END:VEVENT
BEGIN:VEVENT
DTSTART;TZID=America/New_York:20260519T180000
DTEND;TZID=America/New_York:20260519T203000
DTSTAMP:20260420T123148
CREATED:20260409T171236Z
LAST-MODIFIED:20260417T003130Z
UID:10008337-1779213600-1779222600@www.saintpaulsumc.org
SUMMARY:Girl Scout Troop 67/P   o5:45   c8:00
DESCRIPTION:Requested by Stephanie ChandlerCreated by linda 6/5/25
URL:https://www.saintpaulsumc.org/event/girl-scout-troop-67-p-o545-c800-22/
LOCATION:Parlor
END:VEVENT
BEGIN:VEVENT
DTSTART;TZID=America/New_York:20260519T181500
DTEND;TZID=America/New_York:20260519T191500
DTSTAMP:20260420T123148
CREATED:20260409T171236Z
LAST-MODIFIED:20260417T003130Z
UID:10008335-1779214500-1779218100@www.saintpaulsumc.org
SUMMARY:Covenant Chancel Choir/CR
DESCRIPTION:Requested by GayeCreated by Linda 9/24/25
URL:https://www.saintpaulsumc.org/event/covenant-chancel-choir-cr-31/
LOCATION:Choir Room
END:VEVENT
BEGIN:VEVENT
DTSTART;TZID=America/New_York:20260519T190000
DTEND;TZID=America/New_York:20260519T210000
DTSTAMP:20260420T123148
CREATED:20260413T184643Z
LAST-MODIFIED:20260417T003130Z
UID:10008582-1779217200-1779224400@www.saintpaulsumc.org
SUMMARY:Young People's Group/300   o6:30   c8:00
DESCRIPTION:
URL:https://www.saintpaulsumc.org/event/young-peoples-group-300-o630-c800-6/
LOCATION:Room 300
END:VEVENT
BEGIN:VEVENT
DTSTART;TZID=America/New_York:20260519T193000
DTEND;TZID=America/New_York:20260519T203000
DTSTAMP:20260420T123148
CREATED:20260409T171236Z
LAST-MODIFIED:20260417T003130Z
UID:10008336-1779219000-1779222600@www.saintpaulsumc.org
SUMMARY:Selah/CR    o 6:00    c 8:15
DESCRIPTION:Requested by CynthiaCreated by linda
URL:https://www.saintpaulsumc.org/event/selah-cr-o-600-c-815-121/
LOCATION:Choir Room
END:VEVENT
END:VCALENDAR