BEGIN:VCALENDAR
VERSION:2.0
PRODID:-//Saint Paul&#039;s UMC - ECPv6.15.20//NONSGML v1.0//EN
CALSCALE:GREGORIAN
METHOD:PUBLISH
X-WR-CALNAME:Saint Paul&#039;s UMC
X-ORIGINAL-URL:https://www.saintpaulsumc.org
X-WR-CALDESC:Events for Saint Paul&#039;s UMC
REFRESH-INTERVAL;VALUE=DURATION:PT1H
X-Robots-Tag:noindex
X-PUBLISHED-TTL:PT1H
BEGIN:VTIMEZONE
TZID:America/New_York
BEGIN:DAYLIGHT
TZOFFSETFROM:-0500
TZOFFSETTO:-0400
TZNAME:EDT
DTSTART:20250309T070000
END:DAYLIGHT
BEGIN:STANDARD
TZOFFSETFROM:-0400
TZOFFSETTO:-0500
TZNAME:EST
DTSTART:20251102T060000
END:STANDARD
BEGIN:DAYLIGHT
TZOFFSETFROM:-0500
TZOFFSETTO:-0400
TZNAME:EDT
DTSTART:20260308T070000
END:DAYLIGHT
BEGIN:STANDARD
TZOFFSETFROM:-0400
TZOFFSETTO:-0500
TZNAME:EST
DTSTART:20261101T060000
END:STANDARD
BEGIN:DAYLIGHT
TZOFFSETFROM:-0500
TZOFFSETTO:-0400
TZNAME:EDT
DTSTART:20270314T070000
END:DAYLIGHT
BEGIN:STANDARD
TZOFFSETFROM:-0400
TZOFFSETTO:-0500
TZNAME:EST
DTSTART:20271107T060000
END:STANDARD
END:VTIMEZONE
BEGIN:VEVENT
DTSTART;TZID=America/New_York:20260514T074500
DTEND;TZID=America/New_York:20260514T174500
DTSTAMP:20260420T122215
CREATED:20260409T171230Z
LAST-MODIFIED:20260417T003127Z
UID:10008312-1778744700-1778780700@www.saintpaulsumc.org
SUMMARY:PMO/Preschool/N
DESCRIPTION:
URL:https://www.saintpaulsumc.org/event/pmo-preschool-n-367/
LOCATION:Nursery
END:VEVENT
BEGIN:VEVENT
DTSTART;TZID=America/New_York:20260514T100000
DTEND;TZID=America/New_York:20260514T113000
DTSTAMP:20260420T122215
CREATED:20260409T171230Z
LAST-MODIFIED:20260417T003126Z
UID:10008311-1778752800-1778758200@www.saintpaulsumc.org
SUMMARY:Alz. Early Stage Support Group/327   o9:45  c11:30
DESCRIPTION:Requested by MindyCreated by linda 4/17/25
URL:https://www.saintpaulsumc.org/event/alz-early-stage-support-group-327-o945-c1130-13/
LOCATION:Room 327
END:VEVENT
BEGIN:VEVENT
DTSTART;TZID=America/New_York:20260514T110000
DTEND;TZID=America/New_York:20260514T120000
DTSTAMP:20260420T122215
CREATED:20260409T171229Z
LAST-MODIFIED:20260417T003126Z
UID:10008310-1778756400-1778760000@www.saintpaulsumc.org
SUMMARY:Chair Yoga Class/SH
DESCRIPTION:
URL:https://www.saintpaulsumc.org/event/chair-yoga-class-sh-6/
LOCATION:Sanders Hall
END:VEVENT
END:VCALENDAR