BEGIN:VCALENDAR
VERSION:2.0
PRODID:-//Saint Paul&#039;s UMC - ECPv6.15.20//NONSGML v1.0//EN
CALSCALE:GREGORIAN
METHOD:PUBLISH
X-WR-CALNAME:Saint Paul&#039;s UMC
X-ORIGINAL-URL:https://www.saintpaulsumc.org
X-WR-CALDESC:Events for Saint Paul&#039;s UMC
REFRESH-INTERVAL;VALUE=DURATION:PT1H
X-Robots-Tag:noindex
X-PUBLISHED-TTL:PT1H
BEGIN:VTIMEZONE
TZID:America/New_York
BEGIN:DAYLIGHT
TZOFFSETFROM:-0500
TZOFFSETTO:-0400
TZNAME:EDT
DTSTART:20250309T070000
END:DAYLIGHT
BEGIN:STANDARD
TZOFFSETFROM:-0400
TZOFFSETTO:-0500
TZNAME:EST
DTSTART:20251102T060000
END:STANDARD
BEGIN:DAYLIGHT
TZOFFSETFROM:-0500
TZOFFSETTO:-0400
TZNAME:EDT
DTSTART:20260308T070000
END:DAYLIGHT
BEGIN:STANDARD
TZOFFSETFROM:-0400
TZOFFSETTO:-0500
TZNAME:EST
DTSTART:20261101T060000
END:STANDARD
BEGIN:DAYLIGHT
TZOFFSETFROM:-0500
TZOFFSETTO:-0400
TZNAME:EDT
DTSTART:20270314T070000
END:DAYLIGHT
BEGIN:STANDARD
TZOFFSETFROM:-0400
TZOFFSETTO:-0500
TZNAME:EST
DTSTART:20271107T060000
END:STANDARD
END:VTIMEZONE
BEGIN:VEVENT
DTSTART;TZID=America/New_York:20260512T074500
DTEND;TZID=America/New_York:20260512T174500
DTSTAMP:20260420T152920
CREATED:20260409T171226Z
LAST-MODIFIED:20260417T003125Z
UID:10008296-1778571900-1778607900@www.saintpaulsumc.org
SUMMARY:PMO/Preschool/N/200 Level /F
DESCRIPTION:
URL:https://www.saintpaulsumc.org/event/pmo-preschool-n-200-level-f-243/
LOCATION:Nursery
END:VEVENT
BEGIN:VEVENT
DTSTART;TZID=America/New_York:20260512T083000
DTEND;TZID=America/New_York:20260512T093000
DTSTAMP:20260420T152920
CREATED:20260409T171226Z
LAST-MODIFIED:20260417T003124Z
UID:10008297-1778574600-1778578200@www.saintpaulsumc.org
SUMMARY:Men's Reading Community/Ology Brewing
DESCRIPTION:Requested by David GillCreated by linda 1/10/23
URL:https://www.saintpaulsumc.org/event/mens-reading-community-ology-brewing-124/
LOCATION:Ology Brewing Co\, 2910 Kerry Forest Pkwy\, Miccosukee\, FL\, United States
GEO:30.542218;-84.227861
X-APPLE-STRUCTURED-LOCATION;VALUE=URI;X-ADDRESS=Ology Brewing Co 2910 Kerry Forest Pkwy Miccosukee FL United States;X-APPLE-RADIUS=500;X-TITLE=2910 Kerry Forest Pkwy:geo:-84.227861,30.542218
END:VEVENT
BEGIN:VEVENT
DTSTART;TZID=America/New_York:20260512T100000
DTEND;TZID=America/New_York:20260512T120000
DTSTAMP:20260420T152920
CREATED:20260409T171226Z
LAST-MODIFIED:20260417T003124Z
UID:10008298-1778580000-1778587200@www.saintpaulsumc.org
SUMMARY:United Women In Faith/SH    o9:15   c12:30
DESCRIPTION:Mary Ann Brown
URL:https://www.saintpaulsumc.org/event/united-women-in-faith-sh-o915-c1230-29/
LOCATION:Sanders Hall – 2 long tables for food / 4 round tables with 6 chairs each
END:VEVENT
BEGIN:VEVENT
DTSTART;TZID=America/New_York:20260512T173000
DTEND;TZID=America/New_York:20260512T193000
DTSTAMP:20260420T152920
CREATED:20260409T171227Z
LAST-MODIFIED:20260417T003125Z
UID:10008300-1778607000-1778614200@www.saintpaulsumc.org
SUMMARY:Impact Academy Awards & Dinner/SH   o4:30   c8:00
DESCRIPTION:
URL:https://www.saintpaulsumc.org/event/impact-academy-awards-dinner-sh-o500-c745/
LOCATION:Sanders Hall
END:VEVENT
BEGIN:VEVENT
DTSTART;TZID=America/New_York:20260512T181500
DTEND;TZID=America/New_York:20260512T191500
DTSTAMP:20260420T152920
CREATED:20260409T171227Z
LAST-MODIFIED:20260417T003125Z
UID:10008301-1778609700-1778613300@www.saintpaulsumc.org
SUMMARY:Covenant Chancel Choir/CR
DESCRIPTION:Requested by GayeCreated by Linda 9/24/25
URL:https://www.saintpaulsumc.org/event/covenant-chancel-choir-cr-30/
LOCATION:Choir Room
END:VEVENT
BEGIN:VEVENT
DTSTART;TZID=America/New_York:20260512T190000
DTEND;TZID=America/New_York:20260512T210000
DTSTAMP:20260420T152920
CREATED:20260413T184638Z
LAST-MODIFIED:20260417T003125Z
UID:10008580-1778612400-1778619600@www.saintpaulsumc.org
SUMMARY:Young People's Group/300   o6:30   c8:00
DESCRIPTION:
URL:https://www.saintpaulsumc.org/event/young-peoples-group-300-o630-c800-5/
LOCATION:Room 300
END:VEVENT
BEGIN:VEVENT
DTSTART;TZID=America/New_York:20260512T193000
DTEND;TZID=America/New_York:20260512T203000
DTSTAMP:20260420T152920
CREATED:20260409T171227Z
LAST-MODIFIED:20260417T003125Z
UID:10008299-1778614200-1778617800@www.saintpaulsumc.org
SUMMARY:Selah/CR    o 6:00    c 8:15
DESCRIPTION:Requested by CynthiaCreated by linda
URL:https://www.saintpaulsumc.org/event/selah-cr-o-600-c-815-120/
LOCATION:Choir Room
END:VEVENT
END:VCALENDAR