BEGIN:VCALENDAR
VERSION:2.0
PRODID:-//Saint Paul&#039;s UMC - ECPv6.15.20//NONSGML v1.0//EN
CALSCALE:GREGORIAN
METHOD:PUBLISH
X-ORIGINAL-URL:https://www.saintpaulsumc.org
X-WR-CALDESC:Events for Saint Paul&#039;s UMC
REFRESH-INTERVAL;VALUE=DURATION:PT1H
X-Robots-Tag:noindex
X-PUBLISHED-TTL:PT1H
BEGIN:VTIMEZONE
TZID:America/New_York
BEGIN:DAYLIGHT
TZOFFSETFROM:-0500
TZOFFSETTO:-0400
TZNAME:EDT
DTSTART:20250309T070000
END:DAYLIGHT
BEGIN:STANDARD
TZOFFSETFROM:-0400
TZOFFSETTO:-0500
TZNAME:EST
DTSTART:20251102T060000
END:STANDARD
BEGIN:DAYLIGHT
TZOFFSETFROM:-0500
TZOFFSETTO:-0400
TZNAME:EDT
DTSTART:20260308T070000
END:DAYLIGHT
BEGIN:STANDARD
TZOFFSETFROM:-0400
TZOFFSETTO:-0500
TZNAME:EST
DTSTART:20261101T060000
END:STANDARD
BEGIN:DAYLIGHT
TZOFFSETFROM:-0500
TZOFFSETTO:-0400
TZNAME:EDT
DTSTART:20270314T070000
END:DAYLIGHT
BEGIN:STANDARD
TZOFFSETFROM:-0400
TZOFFSETTO:-0500
TZNAME:EST
DTSTART:20271107T060000
END:STANDARD
END:VTIMEZONE
BEGIN:VEVENT
DTSTART;VALUE=DATE:20260510
DTEND;VALUE=DATE:20260511
DTSTAMP:20260420T092430
CREATED:20260409T171224Z
LAST-MODIFIED:20260417T003124Z
UID:10008292-1778371200-1778457599@www.saintpaulsumc.org
SUMMARY:Confirmation Sunday
DESCRIPTION:
URL:https://www.saintpaulsumc.org/event/confirmation-sunday-2/
END:VEVENT
BEGIN:VEVENT
DTSTART;TZID=America/New_York:20260510T083000
DTEND;TZID=America/New_York:20260510T093000
DTSTAMP:20260420T092430
CREATED:20260409T171223Z
LAST-MODIFIED:20260417T003123Z
UID:10008285-1778401800-1778405400@www.saintpaulsumc.org
SUMMARY:Sunday Worship/S
DESCRIPTION:
URL:https://www.saintpaulsumc.org/event/sunday-worship-s-77/
LOCATION:Sanctuary
END:VEVENT
BEGIN:VEVENT
DTSTART;TZID=America/New_York:20260510T094500
DTEND;TZID=America/New_York:20260510T103000
DTSTAMP:20260420T092430
CREATED:20260409T171223Z
LAST-MODIFIED:20260417T003123Z
UID:10008287-1778406300-1778409000@www.saintpaulsumc.org
SUMMARY:Starting Point Class/Side Narthex
DESCRIPTION:Requested by CarolynCreated by linda 7/30/25
URL:https://www.saintpaulsumc.org/event/starting-point-class-side-narthex-8/
LOCATION:Side Narthex
END:VEVENT
BEGIN:VEVENT
DTSTART;TZID=America/New_York:20260510T094500
DTEND;TZID=America/New_York:20260510T104500
DTSTAMP:20260420T092430
CREATED:20260409T171223Z
LAST-MODIFIED:20260417T003123Z
UID:10008286-1778406300-1778409900@www.saintpaulsumc.org
SUMMARY:Sunday School Class
DESCRIPTION:
URL:https://www.saintpaulsumc.org/event/sunday-school-class-47/
END:VEVENT
BEGIN:VEVENT
DTSTART;TZID=America/New_York:20260510T110000
DTEND;TZID=America/New_York:20260510T120000
DTSTAMP:20260420T092430
CREATED:20260409T171223Z
LAST-MODIFIED:20260417T003123Z
UID:10008288-1778410800-1778414400@www.saintpaulsumc.org
SUMMARY:Sunday Worship/S
DESCRIPTION:
URL:https://www.saintpaulsumc.org/event/sunday-worship-s-78/
LOCATION:Sanctuary
END:VEVENT
BEGIN:VEVENT
DTSTART;TZID=America/New_York:20260510T160000
DTEND;TZID=America/New_York:20260510T170000
DTSTAMP:20260420T092430
CREATED:20260409T171225Z
LAST-MODIFIED:20260417T003124Z
UID:10008293-1778428800-1778432400@www.saintpaulsumc.org
SUMMARY:Order of the Arrow/Scout House
DESCRIPTION:
URL:https://www.saintpaulsumc.org/event/order-of-the-arrow-scout-house-124/
LOCATION:Scout House
END:VEVENT
BEGIN:VEVENT
DTSTART;TZID=America/New_York:20260510T174500
DTEND;TZID=America/New_York:20260510T184500
DTSTAMP:20260420T092430
CREATED:20260409T171224Z
LAST-MODIFIED:20260417T003124Z
UID:10008290-1778435100-1778438700@www.saintpaulsumc.org
SUMMARY:Handbell Choir/Sanctuary
DESCRIPTION:
URL:https://www.saintpaulsumc.org/event/handbell-choir-sanctuary-106/
LOCATION:Sanctuary
END:VEVENT
BEGIN:VEVENT
DTSTART;TZID=America/New_York:20260510T180000
DTEND;TZID=America/New_York:20260510T190000
DTSTAMP:20260420T092430
CREATED:20260409T171223Z
LAST-MODIFIED:20260417T003124Z
UID:10008289-1778436000-1778439600@www.saintpaulsumc.org
SUMMARY:Contemporary Service/SH
DESCRIPTION:Requested by LatriciaCreated by linda 7/30/24
URL:https://www.saintpaulsumc.org/event/contemporary-service-sh-89/
LOCATION:Sanders Hall
END:VEVENT
END:VCALENDAR