BEGIN:VCALENDAR
VERSION:2.0
PRODID:-//Saint Paul&#039;s UMC - ECPv6.15.20//NONSGML v1.0//EN
CALSCALE:GREGORIAN
METHOD:PUBLISH
X-ORIGINAL-URL:https://www.saintpaulsumc.org
X-WR-CALDESC:Events for Saint Paul&#039;s UMC
REFRESH-INTERVAL;VALUE=DURATION:PT1H
X-Robots-Tag:noindex
X-PUBLISHED-TTL:PT1H
BEGIN:VTIMEZONE
TZID:America/New_York
BEGIN:DAYLIGHT
TZOFFSETFROM:-0500
TZOFFSETTO:-0400
TZNAME:EDT
DTSTART:20250309T070000
END:DAYLIGHT
BEGIN:STANDARD
TZOFFSETFROM:-0400
TZOFFSETTO:-0500
TZNAME:EST
DTSTART:20251102T060000
END:STANDARD
BEGIN:DAYLIGHT
TZOFFSETFROM:-0500
TZOFFSETTO:-0400
TZNAME:EDT
DTSTART:20260308T070000
END:DAYLIGHT
BEGIN:STANDARD
TZOFFSETFROM:-0400
TZOFFSETTO:-0500
TZNAME:EST
DTSTART:20261101T060000
END:STANDARD
BEGIN:DAYLIGHT
TZOFFSETFROM:-0500
TZOFFSETTO:-0400
TZNAME:EDT
DTSTART:20270314T070000
END:DAYLIGHT
BEGIN:STANDARD
TZOFFSETFROM:-0400
TZOFFSETTO:-0500
TZNAME:EST
DTSTART:20271107T060000
END:STANDARD
END:VTIMEZONE
BEGIN:VEVENT
DTSTART;TZID=America/New_York:20260506T074500
DTEND;TZID=America/New_York:20260506T174500
DTSTAMP:20260420T134321
CREATED:20260409T171220Z
LAST-MODIFIED:20260417T003122Z
UID:10008269-1778053500-1778089500@www.saintpaulsumc.org
SUMMARY:PMO/Preschool/N/200 Level/F
DESCRIPTION:
URL:https://www.saintpaulsumc.org/event/pmo-preschool-n-200-level-f-242/
LOCATION:Nursery
END:VEVENT
BEGIN:VEVENT
DTSTART;TZID=America/New_York:20260506T080000
DTEND;TZID=America/New_York:20260506T090000
DTSTAMP:20260420T134321
CREATED:20260409T171220Z
LAST-MODIFIED:20260417T003121Z
UID:10008270-1778054400-1778058000@www.saintpaulsumc.org
SUMMARY:Prayer Group
DESCRIPTION:https://us02web.zoom.us/j/84920767002?pwd=bzQ0c2duNUJJV05UWUZWMXZKb1Y1UT09 \nMeeting ID: 849 2076 7002 \nPasscode: 037548
URL:https://www.saintpaulsumc.org/event/prayer-group-123/
LOCATION:Zoom
END:VEVENT
BEGIN:VEVENT
DTSTART;TZID=America/New_York:20260506T171000
DTEND;TZID=America/New_York:20260506T174000
DTSTAMP:20260420T134321
CREATED:20260409T171220Z
LAST-MODIFIED:20260417T003121Z
UID:10008271-1778087400-1778089200@www.saintpaulsumc.org
SUMMARY:PreSchool Music/200
DESCRIPTION:
URL:https://www.saintpaulsumc.org/event/preschool-music-200-72/
LOCATION:Room 200
END:VEVENT
BEGIN:VEVENT
DTSTART;TZID=America/New_York:20260506T171500
DTEND;TZID=America/New_York:20260506T180000
DTSTAMP:20260420T134321
CREATED:20260409T171221Z
LAST-MODIFIED:20260417T003122Z
UID:10008274-1778087700-1778090400@www.saintpaulsumc.org
SUMMARY:Wednesday Night Dinner/SH    o4:30  c7:30
DESCRIPTION:
URL:https://www.saintpaulsumc.org/event/wednesday-night-dinner-sh-o430-c730-108/
LOCATION:Sanders Hall
END:VEVENT
BEGIN:VEVENT
DTSTART;TZID=America/New_York:20260506T180000
DTEND;TZID=America/New_York:20260506T190000
DTSTAMP:20260420T134321
CREATED:20260409T171220Z
LAST-MODIFIED:20260417T003122Z
UID:10008272-1778090400-1778094000@www.saintpaulsumc.org
SUMMARY:Youth Rooted/P/210/211
DESCRIPTION:
URL:https://www.saintpaulsumc.org/event/youth-rooted-p-210-211-80/
LOCATION:Parlor/Room 210/211
END:VEVENT
BEGIN:VEVENT
DTSTART;TZID=America/New_York:20260506T180000
DTEND;TZID=America/New_York:20260506T200000
DTSTAMP:20260420T134321
CREATED:20260409T171221Z
LAST-MODIFIED:20260417T003122Z
UID:10008273-1778090400-1778097600@www.saintpaulsumc.org
SUMMARY:Drum Circle Tallahassee/GP
DESCRIPTION:
URL:https://www.saintpaulsumc.org/event/drum-circle-tallahassee-gp-125/
LOCATION:Generations Park
END:VEVENT
BEGIN:VEVENT
DTSTART;TZID=America/New_York:20260506T184500
DTEND;TZID=America/New_York:20260506T194500
DTSTAMP:20260420T134321
CREATED:20260409T171221Z
LAST-MODIFIED:20260417T003122Z
UID:10008275-1778093100-1778096700@www.saintpaulsumc.org
SUMMARY:Kids@Art Musical/S
DESCRIPTION:
URL:https://www.saintpaulsumc.org/event/kidsart-musical-s-2/
LOCATION:Sanctuary
END:VEVENT
BEGIN:VEVENT
DTSTART;TZID=America/New_York:20260506T190000
DTEND;TZID=America/New_York:20260506T194500
DTSTAMP:20260420T134321
CREATED:20260409T171221Z
LAST-MODIFIED:20260417T003122Z
UID:10008276-1778094000-1778096700@www.saintpaulsumc.org
SUMMARY:Youth Choir/200
DESCRIPTION:
URL:https://www.saintpaulsumc.org/event/youth-choir-200-111/
LOCATION:Room 200
END:VEVENT
END:VCALENDAR