BEGIN:VCALENDAR
VERSION:2.0
PRODID:-//Saint Paul&#039;s UMC - ECPv6.15.20//NONSGML v1.0//EN
CALSCALE:GREGORIAN
METHOD:PUBLISH
X-WR-CALNAME:Saint Paul&#039;s UMC
X-ORIGINAL-URL:https://www.saintpaulsumc.org
X-WR-CALDESC:Events for Saint Paul&#039;s UMC
REFRESH-INTERVAL;VALUE=DURATION:PT1H
X-Robots-Tag:noindex
X-PUBLISHED-TTL:PT1H
BEGIN:VTIMEZONE
TZID:America/New_York
BEGIN:DAYLIGHT
TZOFFSETFROM:-0500
TZOFFSETTO:-0400
TZNAME:EDT
DTSTART:20250309T070000
END:DAYLIGHT
BEGIN:STANDARD
TZOFFSETFROM:-0400
TZOFFSETTO:-0500
TZNAME:EST
DTSTART:20251102T060000
END:STANDARD
BEGIN:DAYLIGHT
TZOFFSETFROM:-0500
TZOFFSETTO:-0400
TZNAME:EDT
DTSTART:20260308T070000
END:DAYLIGHT
BEGIN:STANDARD
TZOFFSETFROM:-0400
TZOFFSETTO:-0500
TZNAME:EST
DTSTART:20261101T060000
END:STANDARD
BEGIN:DAYLIGHT
TZOFFSETFROM:-0500
TZOFFSETTO:-0400
TZNAME:EDT
DTSTART:20270314T070000
END:DAYLIGHT
BEGIN:STANDARD
TZOFFSETFROM:-0400
TZOFFSETTO:-0500
TZNAME:EST
DTSTART:20271107T060000
END:STANDARD
END:VTIMEZONE
BEGIN:VEVENT
DTSTART;TZID=America/New_York:20260505T074500
DTEND;TZID=America/New_York:20260505T174500
DTSTAMP:20260420T122410
CREATED:20260409T171219Z
LAST-MODIFIED:20260417T003120Z
UID:10008263-1777967100-1778003100@www.saintpaulsumc.org
SUMMARY:PMO/Preschool/N/200 Level /F
DESCRIPTION:
URL:https://www.saintpaulsumc.org/event/pmo-preschool-n-200-level-f-241/
LOCATION:Nursery
END:VEVENT
BEGIN:VEVENT
DTSTART;TZID=America/New_York:20260505T083000
DTEND;TZID=America/New_York:20260505T093000
DTSTAMP:20260420T122410
CREATED:20260409T171219Z
LAST-MODIFIED:20260417T003120Z
UID:10008264-1777969800-1777973400@www.saintpaulsumc.org
SUMMARY:Men's Reading Community/Ology Brewing
DESCRIPTION:Requested by David GillCreated by linda 1/10/23
URL:https://www.saintpaulsumc.org/event/mens-reading-community-ology-brewing-123/
LOCATION:Ology Brewing Co\, 2910 Kerry Forest Pkwy\, Miccosukee\, FL\, United States
GEO:30.542218;-84.227861
X-APPLE-STRUCTURED-LOCATION;VALUE=URI;X-ADDRESS=Ology Brewing Co 2910 Kerry Forest Pkwy Miccosukee FL United States;X-APPLE-RADIUS=500;X-TITLE=2910 Kerry Forest Pkwy:geo:-84.227861,30.542218
END:VEVENT
BEGIN:VEVENT
DTSTART;TZID=America/New_York:20260505T113000
DTEND;TZID=America/New_York:20260505T130000
DTSTAMP:20260420T122410
CREATED:20260409T171219Z
LAST-MODIFIED:20260417T003120Z
UID:10008265-1777980600-1777986000@www.saintpaulsumc.org
SUMMARY:Alzheimer's Support Group/P    o10:00  c1:00
DESCRIPTION:Requested by Elaine McConnaughhayCreated by linda 1/3/23
URL:https://www.saintpaulsumc.org/event/alzheimers-support-group-p-o1000-c100-10/
LOCATION:Parlor
END:VEVENT
BEGIN:VEVENT
DTSTART;TZID=America/New_York:20260505T180000
DTEND;TZID=America/New_York:20260505T203000
DTSTAMP:20260420T122410
CREATED:20260409T171220Z
LAST-MODIFIED:20260417T003121Z
UID:10008268-1778004000-1778013000@www.saintpaulsumc.org
SUMMARY:Girl Scout Troop 67/P   o5:45   c8:00
DESCRIPTION:Requested by Stephanie ChandlerCreated by linda 6/5/25
URL:https://www.saintpaulsumc.org/event/girl-scout-troop-67-p-o545-c800-21/
LOCATION:Parlor
END:VEVENT
BEGIN:VEVENT
DTSTART;TZID=America/New_York:20260505T181500
DTEND;TZID=America/New_York:20260505T191500
DTSTAMP:20260420T122410
CREATED:20260409T171219Z
LAST-MODIFIED:20260417T003121Z
UID:10008266-1778004900-1778008500@www.saintpaulsumc.org
SUMMARY:Covenant Chancel Choir/CR
DESCRIPTION:Requested by GayeCreated by Linda 9/24/25
URL:https://www.saintpaulsumc.org/event/covenant-chancel-choir-cr-29/
LOCATION:Choir Room
END:VEVENT
BEGIN:VEVENT
DTSTART;TZID=America/New_York:20260505T190000
DTEND;TZID=America/New_York:20260505T210000
DTSTAMP:20260420T122410
CREATED:20260413T184633Z
LAST-MODIFIED:20260417T003121Z
UID:10008578-1778007600-1778014800@www.saintpaulsumc.org
SUMMARY:Young People's Group/300   o6:30   c8:00
DESCRIPTION:
URL:https://www.saintpaulsumc.org/event/young-peoples-group-300-o630-c800-4/
LOCATION:Room 300
END:VEVENT
BEGIN:VEVENT
DTSTART;TZID=America/New_York:20260505T193000
DTEND;TZID=America/New_York:20260505T203000
DTSTAMP:20260420T122410
CREATED:20260409T171220Z
LAST-MODIFIED:20260417T003121Z
UID:10008267-1778009400-1778013000@www.saintpaulsumc.org
SUMMARY:Selah/CR    o 6:00    c 8:15
DESCRIPTION:Requested by CynthiaCreated by linda
URL:https://www.saintpaulsumc.org/event/selah-cr-o-600-c-815-119/
LOCATION:Choir Room
END:VEVENT
END:VCALENDAR