BEGIN:VCALENDAR
VERSION:2.0
PRODID:-//Saint Paul&#039;s UMC - ECPv6.15.20//NONSGML v1.0//EN
CALSCALE:GREGORIAN
METHOD:PUBLISH
X-ORIGINAL-URL:https://www.saintpaulsumc.org
X-WR-CALDESC:Events for Saint Paul&#039;s UMC
REFRESH-INTERVAL;VALUE=DURATION:PT1H
X-Robots-Tag:noindex
X-PUBLISHED-TTL:PT1H
BEGIN:VTIMEZONE
TZID:America/New_York
BEGIN:DAYLIGHT
TZOFFSETFROM:-0500
TZOFFSETTO:-0400
TZNAME:EDT
DTSTART:20250309T070000
END:DAYLIGHT
BEGIN:STANDARD
TZOFFSETFROM:-0400
TZOFFSETTO:-0500
TZNAME:EST
DTSTART:20251102T060000
END:STANDARD
BEGIN:DAYLIGHT
TZOFFSETFROM:-0500
TZOFFSETTO:-0400
TZNAME:EDT
DTSTART:20260308T070000
END:DAYLIGHT
BEGIN:STANDARD
TZOFFSETFROM:-0400
TZOFFSETTO:-0500
TZNAME:EST
DTSTART:20261101T060000
END:STANDARD
BEGIN:DAYLIGHT
TZOFFSETFROM:-0500
TZOFFSETTO:-0400
TZNAME:EDT
DTSTART:20270314T070000
END:DAYLIGHT
BEGIN:STANDARD
TZOFFSETFROM:-0400
TZOFFSETTO:-0500
TZNAME:EST
DTSTART:20271107T060000
END:STANDARD
END:VTIMEZONE
BEGIN:VEVENT
DTSTART;TZID=America/New_York:20260504T074500
DTEND;TZID=America/New_York:20260504T174500
DTSTAMP:20260420T092418
CREATED:20260409T171218Z
LAST-MODIFIED:20260417T003120Z
UID:10008260-1777880700-1777916700@www.saintpaulsumc.org
SUMMARY:PMO/Preschool/N
DESCRIPTION:
URL:https://www.saintpaulsumc.org/event/pmo-preschool-n-363/
LOCATION:Nursery
END:VEVENT
BEGIN:VEVENT
DTSTART;TZID=America/New_York:20260504T180000
DTEND;TZID=America/New_York:20260504T191500
DTSTAMP:20260420T092418
CREATED:20260409T171218Z
LAST-MODIFIED:20260417T003120Z
UID:10008261-1777917600-1777922100@www.saintpaulsumc.org
SUMMARY:Daisy Scout Troop/Room 304
DESCRIPTION:Requested by Alicia BataillesCreated by linda 8/5/25
URL:https://www.saintpaulsumc.org/event/daisy-scout-troop-room-304-18/
LOCATION:Room 304
END:VEVENT
BEGIN:VEVENT
DTSTART;TZID=America/New_York:20260504T190000
DTEND;TZID=America/New_York:20260504T203000
DTSTAMP:20260420T092418
CREATED:20260409T171218Z
LAST-MODIFIED:20260417T003120Z
UID:10008262-1777921200-1777926600@www.saintpaulsumc.org
SUMMARY:Scout Troop 115/Scout House
DESCRIPTION:Requested by Cheryl SwansonCreated by linda  8/16/22
URL:https://www.saintpaulsumc.org/event/scout-troop-115-scout-house-123/
LOCATION:Scout House
END:VEVENT
END:VCALENDAR