BEGIN:VCALENDAR
VERSION:2.0
PRODID:-//Saint Paul&#039;s UMC - ECPv6.15.20//NONSGML v1.0//EN
CALSCALE:GREGORIAN
METHOD:PUBLISH
X-ORIGINAL-URL:https://www.saintpaulsumc.org
X-WR-CALDESC:Events for Saint Paul&#039;s UMC
REFRESH-INTERVAL;VALUE=DURATION:PT1H
X-Robots-Tag:noindex
X-PUBLISHED-TTL:PT1H
BEGIN:VTIMEZONE
TZID:America/New_York
BEGIN:DAYLIGHT
TZOFFSETFROM:-0500
TZOFFSETTO:-0400
TZNAME:EDT
DTSTART:20250309T070000
END:DAYLIGHT
BEGIN:STANDARD
TZOFFSETFROM:-0400
TZOFFSETTO:-0500
TZNAME:EST
DTSTART:20251102T060000
END:STANDARD
BEGIN:DAYLIGHT
TZOFFSETFROM:-0500
TZOFFSETTO:-0400
TZNAME:EDT
DTSTART:20260308T070000
END:DAYLIGHT
BEGIN:STANDARD
TZOFFSETFROM:-0400
TZOFFSETTO:-0500
TZNAME:EST
DTSTART:20261101T060000
END:STANDARD
BEGIN:DAYLIGHT
TZOFFSETFROM:-0500
TZOFFSETTO:-0400
TZNAME:EDT
DTSTART:20270314T070000
END:DAYLIGHT
BEGIN:STANDARD
TZOFFSETFROM:-0400
TZOFFSETTO:-0500
TZNAME:EST
DTSTART:20271107T060000
END:STANDARD
END:VTIMEZONE
BEGIN:VEVENT
DTSTART;TZID=America/New_York:20260426T083000
DTEND;TZID=America/New_York:20260426T093000
DTSTAMP:20260420T123059
CREATED:20260409T171211Z
LAST-MODIFIED:20260417T003114Z
UID:10008222-1777192200-1777195800@www.saintpaulsumc.org
SUMMARY:Sunday Worship/S
DESCRIPTION:
URL:https://www.saintpaulsumc.org/event/sunday-worship-s-73/
LOCATION:Sanctuary
END:VEVENT
BEGIN:VEVENT
DTSTART;TZID=America/New_York:20260426T094500
DTEND;TZID=America/New_York:20260426T104500
DTSTAMP:20260420T123059
CREATED:20260409T171211Z
LAST-MODIFIED:20260417T003114Z
UID:10008223-1777196700-1777200300@www.saintpaulsumc.org
SUMMARY:Sunday School Class
DESCRIPTION:
URL:https://www.saintpaulsumc.org/event/sunday-school-class-45/
END:VEVENT
BEGIN:VEVENT
DTSTART;TZID=America/New_York:20260426T110000
DTEND;TZID=America/New_York:20260426T120000
DTSTAMP:20260420T123059
CREATED:20260409T171211Z
LAST-MODIFIED:20260417T003114Z
UID:10008225-1777201200-1777204800@www.saintpaulsumc.org
SUMMARY:Sunday Worship/S
DESCRIPTION:
URL:https://www.saintpaulsumc.org/event/sunday-worship-s-74/
LOCATION:Sanctuary
END:VEVENT
BEGIN:VEVENT
DTSTART;TZID=America/New_York:20260426T160000
DTEND;TZID=America/New_York:20260426T170000
DTSTAMP:20260420T123059
CREATED:20260409T171212Z
LAST-MODIFIED:20260417T003114Z
UID:10008228-1777219200-1777222800@www.saintpaulsumc.org
SUMMARY:Order of the Arrow/Scout House
DESCRIPTION:
URL:https://www.saintpaulsumc.org/event/order-of-the-arrow-scout-house-122/
LOCATION:Scout House
END:VEVENT
BEGIN:VEVENT
DTSTART;TZID=America/New_York:20260426T170000
DTEND;TZID=America/New_York:20260426T193000
DTSTAMP:20260420T123059
CREATED:20260409T171211Z
LAST-MODIFIED:20260417T003115Z
UID:10008227-1777222800-1777231800@www.saintpaulsumc.org
SUMMARY:Confirmation Class/P
DESCRIPTION:
URL:https://www.saintpaulsumc.org/event/confirmation-class-p-7/
LOCATION:Parlor
END:VEVENT
BEGIN:VEVENT
DTSTART;TZID=America/New_York:20260426T174500
DTEND;TZID=America/New_York:20260426T184500
DTSTAMP:20260420T123059
CREATED:20260409T171211Z
LAST-MODIFIED:20260417T003115Z
UID:10008226-1777225500-1777229100@www.saintpaulsumc.org
SUMMARY:Handbell Choir/Sanctuary
DESCRIPTION:
URL:https://www.saintpaulsumc.org/event/handbell-choir-sanctuary-104/
LOCATION:Sanctuary
END:VEVENT
BEGIN:VEVENT
DTSTART;TZID=America/New_York:20260426T180000
DTEND;TZID=America/New_York:20260426T190000
DTSTAMP:20260420T123059
CREATED:20260409T171212Z
LAST-MODIFIED:20260417T003115Z
UID:10008229-1777226400-1777230000@www.saintpaulsumc.org
SUMMARY:Contemporary Service/SH
DESCRIPTION:Requested by LatriciaCreated by linda 7/30/24
URL:https://www.saintpaulsumc.org/event/contemporary-service-sh-87/
LOCATION:Sanders Hall
END:VEVENT
BEGIN:VEVENT
DTSTART;TZID=America/New_York:20260426T183000
DTEND;TZID=America/New_York:20260426T203000
DTSTAMP:20260420T123059
CREATED:20260413T184626Z
LAST-MODIFIED:20260417T003115Z
UID:10008574-1777228200-1777235400@www.saintpaulsumc.org
SUMMARY:Alzheimer's Meeting/327   o5:30  c8:00
DESCRIPTION:Requested by Claire – 850-386-2778Created by linda 4/13/26
URL:https://www.saintpaulsumc.org/event/alzheimers-meeting-327-o530-c800/
LOCATION:Room 327
END:VEVENT
END:VCALENDAR