BEGIN:VCALENDAR
VERSION:2.0
PRODID:-//Saint Paul&#039;s UMC - ECPv6.15.20//NONSGML v1.0//EN
CALSCALE:GREGORIAN
METHOD:PUBLISH
X-ORIGINAL-URL:https://www.saintpaulsumc.org
X-WR-CALDESC:Events for Saint Paul&#039;s UMC
REFRESH-INTERVAL;VALUE=DURATION:PT1H
X-Robots-Tag:noindex
X-PUBLISHED-TTL:PT1H
BEGIN:VTIMEZONE
TZID:America/New_York
BEGIN:DAYLIGHT
TZOFFSETFROM:-0500
TZOFFSETTO:-0400
TZNAME:EDT
DTSTART:20250309T070000
END:DAYLIGHT
BEGIN:STANDARD
TZOFFSETFROM:-0400
TZOFFSETTO:-0500
TZNAME:EST
DTSTART:20251102T060000
END:STANDARD
BEGIN:DAYLIGHT
TZOFFSETFROM:-0500
TZOFFSETTO:-0400
TZNAME:EDT
DTSTART:20260308T070000
END:DAYLIGHT
BEGIN:STANDARD
TZOFFSETFROM:-0400
TZOFFSETTO:-0500
TZNAME:EST
DTSTART:20261101T060000
END:STANDARD
BEGIN:DAYLIGHT
TZOFFSETFROM:-0500
TZOFFSETTO:-0400
TZNAME:EDT
DTSTART:20270314T070000
END:DAYLIGHT
BEGIN:STANDARD
TZOFFSETFROM:-0400
TZOFFSETTO:-0500
TZNAME:EST
DTSTART:20271107T060000
END:STANDARD
END:VTIMEZONE
BEGIN:VEVENT
DTSTART;TZID=America/New_York:20260324T074500
DTEND;TZID=America/New_York:20260324T174500
DTSTAMP:20260422T134841
CREATED:20260118T234646Z
LAST-MODIFIED:20260320T200139Z
UID:10006334-1774338300-1774374300@www.saintpaulsumc.org
SUMMARY:PMO/Preschool/N/200 Level /F
DESCRIPTION:
URL:https://www.saintpaulsumc.org/event/pmo-preschool-n-200-level-f-229/
LOCATION:Nursery
END:VEVENT
BEGIN:VEVENT
DTSTART;TZID=America/New_York:20260324T083000
DTEND;TZID=America/New_York:20260324T093000
DTSTAMP:20260422T134841
CREATED:20260118T234646Z
LAST-MODIFIED:20260320T200127Z
UID:10006333-1774341000-1774344600@www.saintpaulsumc.org
SUMMARY:Men's Reading Community/Ology Brewing
DESCRIPTION:Requested by David GillCreated by linda 1/10/23
URL:https://www.saintpaulsumc.org/event/mens-reading-community-ology-brewing-107/
LOCATION:Ology Brewing Co\, 2910 Kerry Forest Pkwy\, Miccosukee\, FL\, United States
GEO:30.542218;-84.227861
X-APPLE-STRUCTURED-LOCATION;VALUE=URI;X-ADDRESS=Ology Brewing Co 2910 Kerry Forest Pkwy Miccosukee FL United States;X-APPLE-RADIUS=500;X-TITLE=2910 Kerry Forest Pkwy:geo:-84.227861,30.542218
END:VEVENT
BEGIN:VEVENT
DTSTART;TZID=America/New_York:20260324T180000
DTEND;TZID=America/New_York:20260324T190000
DTSTAMP:20260422T134841
CREATED:20260119T004702Z
LAST-MODIFIED:20260320T200140Z
UID:10006335-1774375200-1774378800@www.saintpaulsumc.org
SUMMARY:Covenant Chancel Choir/CR
DESCRIPTION:Requested by GayeCreated by Linda 9/24/25
URL:https://www.saintpaulsumc.org/event/covenant-chancel-choir-cr-23/
LOCATION:Choir Room
END:VEVENT
BEGIN:VEVENT
DTSTART;TZID=America/New_York:20260324T180000
DTEND;TZID=America/New_York:20260324T193000
DTSTAMP:20260422T134841
CREATED:20260223T144615Z
LAST-MODIFIED:20260320T200140Z
UID:10006968-1774375200-1774380600@www.saintpaulsumc.org
SUMMARY:CAJM Pep Rally
DESCRIPTION:
URL:https://www.saintpaulsumc.org/event/cajm-pep-rally/
LOCATION:Chapel Baptist Church\,  2333 Lake Bradford Rd\, Tallahassee
END:VEVENT
BEGIN:VEVENT
DTSTART;TZID=America/New_York:20260324T193000
DTEND;TZID=America/New_York:20260324T203000
DTSTAMP:20260422T134841
CREATED:20260119T233232Z
LAST-MODIFIED:20260320T200140Z
UID:10006336-1774380600-1774384200@www.saintpaulsumc.org
SUMMARY:Selah/CR    o 6:00    c 8:15
DESCRIPTION:Requested by CynthiaCreated by linda
URL:https://www.saintpaulsumc.org/event/selah-cr-o-600-c-815-113/
LOCATION:Choir Room
END:VEVENT
END:VCALENDAR